BEGIN:VCALENDAR
VERSION:2.0
PRODID:-//houseofgospel.com - ECPv6.9.1//NONSGML v1.0//EN
CALSCALE:GREGORIAN
METHOD:PUBLISH
X-ORIGINAL-URL:https://houseofgospel.com
X-WR-CALDESC:Events for houseofgospel.com
REFRESH-INTERVAL;VALUE=DURATION:PT1H
X-Robots-Tag:noindex
X-PUBLISHED-TTL:PT1H
BEGIN:VTIMEZONE
TZID:UTC
BEGIN:STANDARD
TZOFFSETFROM:+0000
TZOFFSETTO:+0000
TZNAME:UTC
DTSTART:20280101T000000
END:STANDARD
END:VTIMEZONE
BEGIN:VEVENT
DTSTART;TZID=UTC:20280104T080000
DTEND;TZID=UTC:20280104T170000
DTSTAMP:20260425T165051
CREATED:20260425T014218Z
LAST-MODIFIED:20260425T042440Z
UID:10001144-1830585600-1830618000@houseofgospel.com
SUMMARY:Chop It Up" Men's Bible Study 7pm (Fontana) and Women's Bible Study 7pm (Eastvale)
DESCRIPTION:
URL:https://houseofgospel.com/event/chop-it-up-mens-bible-study-7pm-fontana-womens-bible-study-7pm-eastvale/2028-01-04/
END:VEVENT
END:VCALENDAR