BEGIN:VCALENDAR
VERSION:2.0
PRODID:-//houseofgospel.com - ECPv6.9.1//NONSGML v1.0//EN
CALSCALE:GREGORIAN
METHOD:PUBLISH
X-WR-CALNAME:houseofgospel.com
X-ORIGINAL-URL:https://houseofgospel.com
X-WR-CALDESC:Events for houseofgospel.com
REFRESH-INTERVAL;VALUE=DURATION:PT1H
X-Robots-Tag:noindex
X-PUBLISHED-TTL:PT1H
BEGIN:VTIMEZONE
TZID:UTC
BEGIN:STANDARD
TZOFFSETFROM:+0000
TZOFFSETTO:+0000
TZNAME:UTC
DTSTART:20260101T000000
END:STANDARD
END:VTIMEZONE
BEGIN:VEVENT
DTSTART;TZID=UTC:20270504T080000
DTEND;TZID=UTC:20270504T170000
DTSTAMP:20260425T152535
CREATED:20260425T014218Z
LAST-MODIFIED:20260425T042440Z
UID:10001109-1809417600-1809450000@houseofgospel.com
SUMMARY:Chop It Up" Men's Bible Study 7pm (Fontana) and Women's Bible Study 7pm (Eastvale)
DESCRIPTION:
URL:https://houseofgospel.com/event/chop-it-up-mens-bible-study-7pm-fontana-womens-bible-study-7pm-eastvale/2027-05-04/
END:VEVENT
BEGIN:VEVENT
DTSTART;TZID=UTC:20270427T080000
DTEND;TZID=UTC:20270427T170000
DTSTAMP:20260425T152535
CREATED:20260425T014218Z
LAST-MODIFIED:20260425T042440Z
UID:10001108-1808812800-1808845200@houseofgospel.com
SUMMARY:Chop It Up" Men's Bible Study 7pm (Fontana) and Women's Bible Study 7pm (Eastvale)
DESCRIPTION:
URL:https://houseofgospel.com/event/chop-it-up-mens-bible-study-7pm-fontana-womens-bible-study-7pm-eastvale/2027-04-27/
END:VEVENT
BEGIN:VEVENT
DTSTART;TZID=UTC:20270420T080000
DTEND;TZID=UTC:20270420T170000
DTSTAMP:20260425T152535
CREATED:20260425T014218Z
LAST-MODIFIED:20260425T042440Z
UID:10001107-1808208000-1808240400@houseofgospel.com
SUMMARY:Chop It Up" Men's Bible Study 7pm (Fontana) and Women's Bible Study 7pm (Eastvale)
DESCRIPTION:
URL:https://houseofgospel.com/event/chop-it-up-mens-bible-study-7pm-fontana-womens-bible-study-7pm-eastvale/2027-04-20/
END:VEVENT
BEGIN:VEVENT
DTSTART;TZID=UTC:20270413T080000
DTEND;TZID=UTC:20270413T170000
DTSTAMP:20260425T152535
CREATED:20260425T014218Z
LAST-MODIFIED:20260425T042440Z
UID:10001106-1807603200-1807635600@houseofgospel.com
SUMMARY:Chop It Up" Men's Bible Study 7pm (Fontana) and Women's Bible Study 7pm (Eastvale)
DESCRIPTION:
URL:https://houseofgospel.com/event/chop-it-up-mens-bible-study-7pm-fontana-womens-bible-study-7pm-eastvale/2027-04-13/
END:VEVENT
BEGIN:VEVENT
DTSTART;TZID=UTC:20270406T080000
DTEND;TZID=UTC:20270406T170000
DTSTAMP:20260425T152535
CREATED:20260425T014218Z
LAST-MODIFIED:20260425T042440Z
UID:10001105-1806998400-1807030800@houseofgospel.com
SUMMARY:Chop It Up" Men's Bible Study 7pm (Fontana) and Women's Bible Study 7pm (Eastvale)
DESCRIPTION:
URL:https://houseofgospel.com/event/chop-it-up-mens-bible-study-7pm-fontana-womens-bible-study-7pm-eastvale/2027-04-06/
END:VEVENT
BEGIN:VEVENT
DTSTART;TZID=UTC:20270330T080000
DTEND;TZID=UTC:20270330T170000
DTSTAMP:20260425T152535
CREATED:20260425T014218Z
LAST-MODIFIED:20260425T042440Z
UID:10001104-1806393600-1806426000@houseofgospel.com
SUMMARY:Chop It Up" Men's Bible Study 7pm (Fontana) and Women's Bible Study 7pm (Eastvale)
DESCRIPTION:
URL:https://houseofgospel.com/event/chop-it-up-mens-bible-study-7pm-fontana-womens-bible-study-7pm-eastvale/2027-03-30/
END:VEVENT
BEGIN:VEVENT
DTSTART;TZID=UTC:20270323T080000
DTEND;TZID=UTC:20270323T170000
DTSTAMP:20260425T152535
CREATED:20260425T014218Z
LAST-MODIFIED:20260425T042440Z
UID:10001103-1805788800-1805821200@houseofgospel.com
SUMMARY:Chop It Up" Men's Bible Study 7pm (Fontana) and Women's Bible Study 7pm (Eastvale)
DESCRIPTION:
URL:https://houseofgospel.com/event/chop-it-up-mens-bible-study-7pm-fontana-womens-bible-study-7pm-eastvale/2027-03-23/
END:VEVENT
BEGIN:VEVENT
DTSTART;TZID=UTC:20270316T080000
DTEND;TZID=UTC:20270316T170000
DTSTAMP:20260425T152535
CREATED:20260425T014218Z
LAST-MODIFIED:20260425T042440Z
UID:10001102-1805184000-1805216400@houseofgospel.com
SUMMARY:Chop It Up" Men's Bible Study 7pm (Fontana) and Women's Bible Study 7pm (Eastvale)
DESCRIPTION:
URL:https://houseofgospel.com/event/chop-it-up-mens-bible-study-7pm-fontana-womens-bible-study-7pm-eastvale/2027-03-16/
END:VEVENT
BEGIN:VEVENT
DTSTART;TZID=UTC:20270309T080000
DTEND;TZID=UTC:20270309T170000
DTSTAMP:20260425T152535
CREATED:20260425T014218Z
LAST-MODIFIED:20260425T042440Z
UID:10001101-1804579200-1804611600@houseofgospel.com
SUMMARY:Chop It Up" Men's Bible Study 7pm (Fontana) and Women's Bible Study 7pm (Eastvale)
DESCRIPTION:
URL:https://houseofgospel.com/event/chop-it-up-mens-bible-study-7pm-fontana-womens-bible-study-7pm-eastvale/2027-03-09/
END:VEVENT
BEGIN:VEVENT
DTSTART;TZID=UTC:20270302T080000
DTEND;TZID=UTC:20270302T170000
DTSTAMP:20260425T152535
CREATED:20260425T014218Z
LAST-MODIFIED:20260425T042440Z
UID:10001100-1803974400-1804006800@houseofgospel.com
SUMMARY:Chop It Up" Men's Bible Study 7pm (Fontana) and Women's Bible Study 7pm (Eastvale)
DESCRIPTION:
URL:https://houseofgospel.com/event/chop-it-up-mens-bible-study-7pm-fontana-womens-bible-study-7pm-eastvale/2027-03-02/
END:VEVENT
BEGIN:VEVENT
DTSTART;TZID=UTC:20270223T080000
DTEND;TZID=UTC:20270223T170000
DTSTAMP:20260425T152535
CREATED:20260425T014218Z
LAST-MODIFIED:20260425T042440Z
UID:10001099-1803369600-1803402000@houseofgospel.com
SUMMARY:Chop It Up" Men's Bible Study 7pm (Fontana) and Women's Bible Study 7pm (Eastvale)
DESCRIPTION:
URL:https://houseofgospel.com/event/chop-it-up-mens-bible-study-7pm-fontana-womens-bible-study-7pm-eastvale/2027-02-23/
END:VEVENT
BEGIN:VEVENT
DTSTART;TZID=UTC:20270216T080000
DTEND;TZID=UTC:20270216T170000
DTSTAMP:20260425T152535
CREATED:20260425T014218Z
LAST-MODIFIED:20260425T042440Z
UID:10001098-1802764800-1802797200@houseofgospel.com
SUMMARY:Chop It Up" Men's Bible Study 7pm (Fontana) and Women's Bible Study 7pm (Eastvale)
DESCRIPTION:
URL:https://houseofgospel.com/event/chop-it-up-mens-bible-study-7pm-fontana-womens-bible-study-7pm-eastvale/2027-02-16/
END:VEVENT
BEGIN:VEVENT
DTSTART;TZID=UTC:20270209T080000
DTEND;TZID=UTC:20270209T170000
DTSTAMP:20260425T152535
CREATED:20260425T014218Z
LAST-MODIFIED:20260425T042440Z
UID:10001097-1802160000-1802192400@houseofgospel.com
SUMMARY:Chop It Up" Men's Bible Study 7pm (Fontana) and Women's Bible Study 7pm (Eastvale)
DESCRIPTION:
URL:https://houseofgospel.com/event/chop-it-up-mens-bible-study-7pm-fontana-womens-bible-study-7pm-eastvale/2027-02-09/
END:VEVENT
BEGIN:VEVENT
DTSTART;TZID=UTC:20270202T080000
DTEND;TZID=UTC:20270202T170000
DTSTAMP:20260425T152535
CREATED:20260425T014218Z
LAST-MODIFIED:20260425T042440Z
UID:10001096-1801555200-1801587600@houseofgospel.com
SUMMARY:Chop It Up" Men's Bible Study 7pm (Fontana) and Women's Bible Study 7pm (Eastvale)
DESCRIPTION:
URL:https://houseofgospel.com/event/chop-it-up-mens-bible-study-7pm-fontana-womens-bible-study-7pm-eastvale/2027-02-02/
END:VEVENT
BEGIN:VEVENT
DTSTART;TZID=UTC:20270126T080000
DTEND;TZID=UTC:20270126T170000
DTSTAMP:20260425T152535
CREATED:20260425T014218Z
LAST-MODIFIED:20260425T042440Z
UID:10001095-1800950400-1800982800@houseofgospel.com
SUMMARY:Chop It Up" Men's Bible Study 7pm (Fontana) and Women's Bible Study 7pm (Eastvale)
DESCRIPTION:
URL:https://houseofgospel.com/event/chop-it-up-mens-bible-study-7pm-fontana-womens-bible-study-7pm-eastvale/2027-01-26/
END:VEVENT
BEGIN:VEVENT
DTSTART;TZID=UTC:20270119T080000
DTEND;TZID=UTC:20270119T170000
DTSTAMP:20260425T152535
CREATED:20260425T014218Z
LAST-MODIFIED:20260425T042440Z
UID:10001094-1800345600-1800378000@houseofgospel.com
SUMMARY:Chop It Up" Men's Bible Study 7pm (Fontana) and Women's Bible Study 7pm (Eastvale)
DESCRIPTION:
URL:https://houseofgospel.com/event/chop-it-up-mens-bible-study-7pm-fontana-womens-bible-study-7pm-eastvale/2027-01-19/
END:VEVENT
BEGIN:VEVENT
DTSTART;TZID=UTC:20270112T080000
DTEND;TZID=UTC:20270112T170000
DTSTAMP:20260425T152535
CREATED:20260425T014218Z
LAST-MODIFIED:20260425T042440Z
UID:10001093-1799740800-1799773200@houseofgospel.com
SUMMARY:Chop It Up" Men's Bible Study 7pm (Fontana) and Women's Bible Study 7pm (Eastvale)
DESCRIPTION:
URL:https://houseofgospel.com/event/chop-it-up-mens-bible-study-7pm-fontana-womens-bible-study-7pm-eastvale/2027-01-12/
END:VEVENT
BEGIN:VEVENT
DTSTART;TZID=UTC:20270105T080000
DTEND;TZID=UTC:20270105T170000
DTSTAMP:20260425T152535
CREATED:20260425T014218Z
LAST-MODIFIED:20260425T042440Z
UID:10001092-1799136000-1799168400@houseofgospel.com
SUMMARY:Chop It Up" Men's Bible Study 7pm (Fontana) and Women's Bible Study 7pm (Eastvale)
DESCRIPTION:
URL:https://houseofgospel.com/event/chop-it-up-mens-bible-study-7pm-fontana-womens-bible-study-7pm-eastvale/2027-01-05/
END:VEVENT
BEGIN:VEVENT
DTSTART;TZID=UTC:20261229T080000
DTEND;TZID=UTC:20261229T170000
DTSTAMP:20260425T152535
CREATED:20260425T014218Z
LAST-MODIFIED:20260425T042440Z
UID:10001091-1798531200-1798563600@houseofgospel.com
SUMMARY:Chop It Up" Men's Bible Study 7pm (Fontana) and Women's Bible Study 7pm (Eastvale)
DESCRIPTION:
URL:https://houseofgospel.com/event/chop-it-up-mens-bible-study-7pm-fontana-womens-bible-study-7pm-eastvale/2026-12-29/
END:VEVENT
BEGIN:VEVENT
DTSTART;TZID=UTC:20261222T080000
DTEND;TZID=UTC:20261222T170000
DTSTAMP:20260425T152535
CREATED:20260425T014218Z
LAST-MODIFIED:20260425T042440Z
UID:10001090-1797926400-1797958800@houseofgospel.com
SUMMARY:Chop It Up" Men's Bible Study 7pm (Fontana) and Women's Bible Study 7pm (Eastvale)
DESCRIPTION:
URL:https://houseofgospel.com/event/chop-it-up-mens-bible-study-7pm-fontana-womens-bible-study-7pm-eastvale/2026-12-22/
END:VEVENT
BEGIN:VEVENT
DTSTART;TZID=UTC:20261215T080000
DTEND;TZID=UTC:20261215T170000
DTSTAMP:20260425T152535
CREATED:20260425T014218Z
LAST-MODIFIED:20260425T042440Z
UID:10001089-1797321600-1797354000@houseofgospel.com
SUMMARY:Chop It Up" Men's Bible Study 7pm (Fontana) and Women's Bible Study 7pm (Eastvale)
DESCRIPTION:
URL:https://houseofgospel.com/event/chop-it-up-mens-bible-study-7pm-fontana-womens-bible-study-7pm-eastvale/2026-12-15/
END:VEVENT
BEGIN:VEVENT
DTSTART;TZID=UTC:20261208T080000
DTEND;TZID=UTC:20261208T170000
DTSTAMP:20260425T152535
CREATED:20260425T014218Z
LAST-MODIFIED:20260425T042440Z
UID:10001088-1796716800-1796749200@houseofgospel.com
SUMMARY:Chop It Up" Men's Bible Study 7pm (Fontana) and Women's Bible Study 7pm (Eastvale)
DESCRIPTION:
URL:https://houseofgospel.com/event/chop-it-up-mens-bible-study-7pm-fontana-womens-bible-study-7pm-eastvale/2026-12-08/
END:VEVENT
BEGIN:VEVENT
DTSTART;TZID=UTC:20261201T080000
DTEND;TZID=UTC:20261201T170000
DTSTAMP:20260425T152535
CREATED:20260425T014218Z
LAST-MODIFIED:20260425T042440Z
UID:10001087-1796112000-1796144400@houseofgospel.com
SUMMARY:Chop It Up" Men's Bible Study 7pm (Fontana) and Women's Bible Study 7pm (Eastvale)
DESCRIPTION:
URL:https://houseofgospel.com/event/chop-it-up-mens-bible-study-7pm-fontana-womens-bible-study-7pm-eastvale/2026-12-01/
END:VEVENT
BEGIN:VEVENT
DTSTART;TZID=UTC:20261124T080000
DTEND;TZID=UTC:20261124T170000
DTSTAMP:20260425T152535
CREATED:20260425T014218Z
LAST-MODIFIED:20260425T042440Z
UID:10001086-1795507200-1795539600@houseofgospel.com
SUMMARY:Chop It Up" Men's Bible Study 7pm (Fontana) and Women's Bible Study 7pm (Eastvale)
DESCRIPTION:
URL:https://houseofgospel.com/event/chop-it-up-mens-bible-study-7pm-fontana-womens-bible-study-7pm-eastvale/2026-11-24/
END:VEVENT
BEGIN:VEVENT
DTSTART;TZID=UTC:20261117T080000
DTEND;TZID=UTC:20261117T170000
DTSTAMP:20260425T152535
CREATED:20260425T014218Z
LAST-MODIFIED:20260425T042440Z
UID:10001085-1794902400-1794934800@houseofgospel.com
SUMMARY:Chop It Up" Men's Bible Study 7pm (Fontana) and Women's Bible Study 7pm (Eastvale)
DESCRIPTION:
URL:https://houseofgospel.com/event/chop-it-up-mens-bible-study-7pm-fontana-womens-bible-study-7pm-eastvale/2026-11-17/
END:VEVENT
BEGIN:VEVENT
DTSTART;TZID=UTC:20261110T080000
DTEND;TZID=UTC:20261110T170000
DTSTAMP:20260425T152535
CREATED:20260425T014218Z
LAST-MODIFIED:20260425T042440Z
UID:10001084-1794297600-1794330000@houseofgospel.com
SUMMARY:Chop It Up" Men's Bible Study 7pm (Fontana) and Women's Bible Study 7pm (Eastvale)
DESCRIPTION:
URL:https://houseofgospel.com/event/chop-it-up-mens-bible-study-7pm-fontana-womens-bible-study-7pm-eastvale/2026-11-10/
END:VEVENT
BEGIN:VEVENT
DTSTART;TZID=UTC:20261103T080000
DTEND;TZID=UTC:20261103T170000
DTSTAMP:20260425T152535
CREATED:20260425T014218Z
LAST-MODIFIED:20260425T042440Z
UID:10001083-1793692800-1793725200@houseofgospel.com
SUMMARY:Chop It Up" Men's Bible Study 7pm (Fontana) and Women's Bible Study 7pm (Eastvale)
DESCRIPTION:
URL:https://houseofgospel.com/event/chop-it-up-mens-bible-study-7pm-fontana-womens-bible-study-7pm-eastvale/2026-11-03/
END:VEVENT
BEGIN:VEVENT
DTSTART;TZID=UTC:20261027T080000
DTEND;TZID=UTC:20261027T170000
DTSTAMP:20260425T152535
CREATED:20260425T014218Z
LAST-MODIFIED:20260425T042440Z
UID:10001082-1793088000-1793120400@houseofgospel.com
SUMMARY:Chop It Up" Men's Bible Study 7pm (Fontana) and Women's Bible Study 7pm (Eastvale)
DESCRIPTION:
URL:https://houseofgospel.com/event/chop-it-up-mens-bible-study-7pm-fontana-womens-bible-study-7pm-eastvale/2026-10-27/
END:VEVENT
BEGIN:VEVENT
DTSTART;TZID=UTC:20261020T080000
DTEND;TZID=UTC:20261020T170000
DTSTAMP:20260425T152535
CREATED:20260425T014218Z
LAST-MODIFIED:20260425T042440Z
UID:10001081-1792483200-1792515600@houseofgospel.com
SUMMARY:Chop It Up" Men's Bible Study 7pm (Fontana) and Women's Bible Study 7pm (Eastvale)
DESCRIPTION:
URL:https://houseofgospel.com/event/chop-it-up-mens-bible-study-7pm-fontana-womens-bible-study-7pm-eastvale/2026-10-20/
END:VEVENT
BEGIN:VEVENT
DTSTART;TZID=UTC:20261013T080000
DTEND;TZID=UTC:20261013T170000
DTSTAMP:20260425T152535
CREATED:20260425T014218Z
LAST-MODIFIED:20260425T042440Z
UID:10001080-1791878400-1791910800@houseofgospel.com
SUMMARY:Chop It Up" Men's Bible Study 7pm (Fontana) and Women's Bible Study 7pm (Eastvale)
DESCRIPTION:
URL:https://houseofgospel.com/event/chop-it-up-mens-bible-study-7pm-fontana-womens-bible-study-7pm-eastvale/2026-10-13/
END:VEVENT
END:VCALENDAR