BEGIN:VCALENDAR
VERSION:2.0
PRODID:-//houseofgospel.com - ECPv6.9.1//NONSGML v1.0//EN
CALSCALE:GREGORIAN
METHOD:PUBLISH
X-WR-CALNAME:houseofgospel.com
X-ORIGINAL-URL:https://houseofgospel.com
X-WR-CALDESC:Events for houseofgospel.com
REFRESH-INTERVAL;VALUE=DURATION:PT1H
X-Robots-Tag:noindex
X-PUBLISHED-TTL:PT1H
BEGIN:VTIMEZONE
TZID:UTC
BEGIN:STANDARD
TZOFFSETFROM:+0000
TZOFFSETTO:+0000
TZNAME:UTC
DTSTART:20300101T000000
END:STANDARD
END:VTIMEZONE
BEGIN:VEVENT
DTSTART;TZID=UTC:20300521T080000
DTEND;TZID=UTC:20300521T170000
DTSTAMP:20260426T035132
CREATED:20260425T014218Z
LAST-MODIFIED:20260425T042440Z
UID:10001268-1905580800-1905613200@houseofgospel.com
SUMMARY:Chop It Up" Men's Bible Study 7pm (Fontana) and Women's Bible Study 7pm (Eastvale)
DESCRIPTION:
URL:https://houseofgospel.com/event/chop-it-up-mens-bible-study-7pm-fontana-womens-bible-study-7pm-eastvale/2030-05-21/
END:VEVENT
BEGIN:VEVENT
DTSTART;TZID=UTC:20300528T080000
DTEND;TZID=UTC:20300528T170000
DTSTAMP:20260426T035132
CREATED:20260425T014218Z
LAST-MODIFIED:20260425T042440Z
UID:10001269-1906185600-1906218000@houseofgospel.com
SUMMARY:Chop It Up" Men's Bible Study 7pm (Fontana) and Women's Bible Study 7pm (Eastvale)
DESCRIPTION:
URL:https://houseofgospel.com/event/chop-it-up-mens-bible-study-7pm-fontana-womens-bible-study-7pm-eastvale/2030-05-28/
END:VEVENT
BEGIN:VEVENT
DTSTART;TZID=UTC:20300604T080000
DTEND;TZID=UTC:20300604T170000
DTSTAMP:20260426T035132
CREATED:20260425T014218Z
LAST-MODIFIED:20260425T042440Z
UID:10001270-1906790400-1906822800@houseofgospel.com
SUMMARY:Chop It Up" Men's Bible Study 7pm (Fontana) and Women's Bible Study 7pm (Eastvale)
DESCRIPTION:
URL:https://houseofgospel.com/event/chop-it-up-mens-bible-study-7pm-fontana-womens-bible-study-7pm-eastvale/2030-06-04/
END:VEVENT
BEGIN:VEVENT
DTSTART;TZID=UTC:20300611T080000
DTEND;TZID=UTC:20300611T170000
DTSTAMP:20260426T035132
CREATED:20260425T014218Z
LAST-MODIFIED:20260425T042440Z
UID:10001271-1907395200-1907427600@houseofgospel.com
SUMMARY:Chop It Up" Men's Bible Study 7pm (Fontana) and Women's Bible Study 7pm (Eastvale)
DESCRIPTION:
URL:https://houseofgospel.com/event/chop-it-up-mens-bible-study-7pm-fontana-womens-bible-study-7pm-eastvale/2030-06-11/
END:VEVENT
BEGIN:VEVENT
DTSTART;TZID=UTC:20300618T080000
DTEND;TZID=UTC:20300618T170000
DTSTAMP:20260426T035132
CREATED:20260425T014218Z
LAST-MODIFIED:20260425T042440Z
UID:10001272-1908000000-1908032400@houseofgospel.com
SUMMARY:Chop It Up" Men's Bible Study 7pm (Fontana) and Women's Bible Study 7pm (Eastvale)
DESCRIPTION:
URL:https://houseofgospel.com/event/chop-it-up-mens-bible-study-7pm-fontana-womens-bible-study-7pm-eastvale/2030-06-18/
END:VEVENT
BEGIN:VEVENT
DTSTART;TZID=UTC:20300625T080000
DTEND;TZID=UTC:20300625T170000
DTSTAMP:20260426T035132
CREATED:20260425T014218Z
LAST-MODIFIED:20260425T042440Z
UID:10001273-1908604800-1908637200@houseofgospel.com
SUMMARY:Chop It Up" Men's Bible Study 7pm (Fontana) and Women's Bible Study 7pm (Eastvale)
DESCRIPTION:
URL:https://houseofgospel.com/event/chop-it-up-mens-bible-study-7pm-fontana-womens-bible-study-7pm-eastvale/2030-06-25/
END:VEVENT
BEGIN:VEVENT
DTSTART;TZID=UTC:20300702T080000
DTEND;TZID=UTC:20300702T170000
DTSTAMP:20260426T035132
CREATED:20260425T014218Z
LAST-MODIFIED:20260425T042440Z
UID:10001274-1909209600-1909242000@houseofgospel.com
SUMMARY:Chop It Up" Men's Bible Study 7pm (Fontana) and Women's Bible Study 7pm (Eastvale)
DESCRIPTION:
URL:https://houseofgospel.com/event/chop-it-up-mens-bible-study-7pm-fontana-womens-bible-study-7pm-eastvale/2030-07-02/
END:VEVENT
BEGIN:VEVENT
DTSTART;TZID=UTC:20300709T080000
DTEND;TZID=UTC:20300709T170000
DTSTAMP:20260426T035132
CREATED:20260425T014218Z
LAST-MODIFIED:20260425T042440Z
UID:10001275-1909814400-1909846800@houseofgospel.com
SUMMARY:Chop It Up" Men's Bible Study 7pm (Fontana) and Women's Bible Study 7pm (Eastvale)
DESCRIPTION:
URL:https://houseofgospel.com/event/chop-it-up-mens-bible-study-7pm-fontana-womens-bible-study-7pm-eastvale/2030-07-09/
END:VEVENT
BEGIN:VEVENT
DTSTART;TZID=UTC:20300716T080000
DTEND;TZID=UTC:20300716T170000
DTSTAMP:20260426T035132
CREATED:20260425T014218Z
LAST-MODIFIED:20260425T042440Z
UID:10001276-1910419200-1910451600@houseofgospel.com
SUMMARY:Chop It Up" Men's Bible Study 7pm (Fontana) and Women's Bible Study 7pm (Eastvale)
DESCRIPTION:
URL:https://houseofgospel.com/event/chop-it-up-mens-bible-study-7pm-fontana-womens-bible-study-7pm-eastvale/2030-07-16/
END:VEVENT
BEGIN:VEVENT
DTSTART;TZID=UTC:20300723T080000
DTEND;TZID=UTC:20300723T170000
DTSTAMP:20260426T035132
CREATED:20260425T014218Z
LAST-MODIFIED:20260425T042440Z
UID:10001277-1911024000-1911056400@houseofgospel.com
SUMMARY:Chop It Up" Men's Bible Study 7pm (Fontana) and Women's Bible Study 7pm (Eastvale)
DESCRIPTION:
URL:https://houseofgospel.com/event/chop-it-up-mens-bible-study-7pm-fontana-womens-bible-study-7pm-eastvale/2030-07-23/
END:VEVENT
BEGIN:VEVENT
DTSTART;TZID=UTC:20300730T080000
DTEND;TZID=UTC:20300730T170000
DTSTAMP:20260426T035132
CREATED:20260425T014218Z
LAST-MODIFIED:20260425T042440Z
UID:10001278-1911628800-1911661200@houseofgospel.com
SUMMARY:Chop It Up" Men's Bible Study 7pm (Fontana) and Women's Bible Study 7pm (Eastvale)
DESCRIPTION:
URL:https://houseofgospel.com/event/chop-it-up-mens-bible-study-7pm-fontana-womens-bible-study-7pm-eastvale/2030-07-30/
END:VEVENT
BEGIN:VEVENT
DTSTART;TZID=UTC:20300806T080000
DTEND;TZID=UTC:20300806T170000
DTSTAMP:20260426T035132
CREATED:20260425T014218Z
LAST-MODIFIED:20260425T042440Z
UID:10001279-1912233600-1912266000@houseofgospel.com
SUMMARY:Chop It Up" Men's Bible Study 7pm (Fontana) and Women's Bible Study 7pm (Eastvale)
DESCRIPTION:
URL:https://houseofgospel.com/event/chop-it-up-mens-bible-study-7pm-fontana-womens-bible-study-7pm-eastvale/2030-08-06/
END:VEVENT
BEGIN:VEVENT
DTSTART;TZID=UTC:20300813T080000
DTEND;TZID=UTC:20300813T170000
DTSTAMP:20260426T035132
CREATED:20260425T014218Z
LAST-MODIFIED:20260425T042440Z
UID:10001280-1912838400-1912870800@houseofgospel.com
SUMMARY:Chop It Up" Men's Bible Study 7pm (Fontana) and Women's Bible Study 7pm (Eastvale)
DESCRIPTION:
URL:https://houseofgospel.com/event/chop-it-up-mens-bible-study-7pm-fontana-womens-bible-study-7pm-eastvale/2030-08-13/
END:VEVENT
BEGIN:VEVENT
DTSTART;TZID=UTC:20300820T080000
DTEND;TZID=UTC:20300820T170000
DTSTAMP:20260426T035132
CREATED:20260425T014218Z
LAST-MODIFIED:20260425T042440Z
UID:10001281-1913443200-1913475600@houseofgospel.com
SUMMARY:Chop It Up" Men's Bible Study 7pm (Fontana) and Women's Bible Study 7pm (Eastvale)
DESCRIPTION:
URL:https://houseofgospel.com/event/chop-it-up-mens-bible-study-7pm-fontana-womens-bible-study-7pm-eastvale/2030-08-20/
END:VEVENT
BEGIN:VEVENT
DTSTART;TZID=UTC:20300827T080000
DTEND;TZID=UTC:20300827T170000
DTSTAMP:20260426T035132
CREATED:20260425T014218Z
LAST-MODIFIED:20260425T042440Z
UID:10001282-1914048000-1914080400@houseofgospel.com
SUMMARY:Chop It Up" Men's Bible Study 7pm (Fontana) and Women's Bible Study 7pm (Eastvale)
DESCRIPTION:
URL:https://houseofgospel.com/event/chop-it-up-mens-bible-study-7pm-fontana-womens-bible-study-7pm-eastvale/2030-08-27/
END:VEVENT
BEGIN:VEVENT
DTSTART;TZID=UTC:20300903T080000
DTEND;TZID=UTC:20300903T170000
DTSTAMP:20260426T035132
CREATED:20260425T014218Z
LAST-MODIFIED:20260425T042440Z
UID:10001283-1914652800-1914685200@houseofgospel.com
SUMMARY:Chop It Up" Men's Bible Study 7pm (Fontana) and Women's Bible Study 7pm (Eastvale)
DESCRIPTION:
URL:https://houseofgospel.com/event/chop-it-up-mens-bible-study-7pm-fontana-womens-bible-study-7pm-eastvale/2030-09-03/
END:VEVENT
BEGIN:VEVENT
DTSTART;TZID=UTC:20300910T080000
DTEND;TZID=UTC:20300910T170000
DTSTAMP:20260426T035132
CREATED:20260425T014218Z
LAST-MODIFIED:20260425T042440Z
UID:10001284-1915257600-1915290000@houseofgospel.com
SUMMARY:Chop It Up" Men's Bible Study 7pm (Fontana) and Women's Bible Study 7pm (Eastvale)
DESCRIPTION:
URL:https://houseofgospel.com/event/chop-it-up-mens-bible-study-7pm-fontana-womens-bible-study-7pm-eastvale/2030-09-10/
END:VEVENT
BEGIN:VEVENT
DTSTART;TZID=UTC:20300917T080000
DTEND;TZID=UTC:20300917T170000
DTSTAMP:20260426T035132
CREATED:20260425T014218Z
LAST-MODIFIED:20260425T042440Z
UID:10001285-1915862400-1915894800@houseofgospel.com
SUMMARY:Chop It Up" Men's Bible Study 7pm (Fontana) and Women's Bible Study 7pm (Eastvale)
DESCRIPTION:
URL:https://houseofgospel.com/event/chop-it-up-mens-bible-study-7pm-fontana-womens-bible-study-7pm-eastvale/2030-09-17/
END:VEVENT
BEGIN:VEVENT
DTSTART;TZID=UTC:20300924T080000
DTEND;TZID=UTC:20300924T170000
DTSTAMP:20260426T035132
CREATED:20260425T014218Z
LAST-MODIFIED:20260425T042440Z
UID:10001286-1916467200-1916499600@houseofgospel.com
SUMMARY:Chop It Up" Men's Bible Study 7pm (Fontana) and Women's Bible Study 7pm (Eastvale)
DESCRIPTION:
URL:https://houseofgospel.com/event/chop-it-up-mens-bible-study-7pm-fontana-womens-bible-study-7pm-eastvale/2030-09-24/
END:VEVENT
BEGIN:VEVENT
DTSTART;TZID=UTC:20301001T080000
DTEND;TZID=UTC:20301001T170000
DTSTAMP:20260426T035132
CREATED:20260425T014218Z
LAST-MODIFIED:20260425T042440Z
UID:10001287-1917072000-1917104400@houseofgospel.com
SUMMARY:Chop It Up" Men's Bible Study 7pm (Fontana) and Women's Bible Study 7pm (Eastvale)
DESCRIPTION:
URL:https://houseofgospel.com/event/chop-it-up-mens-bible-study-7pm-fontana-womens-bible-study-7pm-eastvale/2030-10-01/
END:VEVENT
BEGIN:VEVENT
DTSTART;TZID=UTC:20301008T080000
DTEND;TZID=UTC:20301008T170000
DTSTAMP:20260426T035132
CREATED:20260425T014218Z
LAST-MODIFIED:20260425T042440Z
UID:10001288-1917676800-1917709200@houseofgospel.com
SUMMARY:Chop It Up" Men's Bible Study 7pm (Fontana) and Women's Bible Study 7pm (Eastvale)
DESCRIPTION:
URL:https://houseofgospel.com/event/chop-it-up-mens-bible-study-7pm-fontana-womens-bible-study-7pm-eastvale/2030-10-08/
END:VEVENT
BEGIN:VEVENT
DTSTART;TZID=UTC:20301015T080000
DTEND;TZID=UTC:20301015T170000
DTSTAMP:20260426T035132
CREATED:20260425T014218Z
LAST-MODIFIED:20260425T042440Z
UID:10001289-1918281600-1918314000@houseofgospel.com
SUMMARY:Chop It Up" Men's Bible Study 7pm (Fontana) and Women's Bible Study 7pm (Eastvale)
DESCRIPTION:
URL:https://houseofgospel.com/event/chop-it-up-mens-bible-study-7pm-fontana-womens-bible-study-7pm-eastvale/2030-10-15/
END:VEVENT
BEGIN:VEVENT
DTSTART;TZID=UTC:20301022T080000
DTEND;TZID=UTC:20301022T170000
DTSTAMP:20260426T035132
CREATED:20260425T014218Z
LAST-MODIFIED:20260425T042440Z
UID:10001290-1918886400-1918918800@houseofgospel.com
SUMMARY:Chop It Up" Men's Bible Study 7pm (Fontana) and Women's Bible Study 7pm (Eastvale)
DESCRIPTION:
URL:https://houseofgospel.com/event/chop-it-up-mens-bible-study-7pm-fontana-womens-bible-study-7pm-eastvale/2030-10-22/
END:VEVENT
BEGIN:VEVENT
DTSTART;TZID=UTC:20301029T080000
DTEND;TZID=UTC:20301029T170000
DTSTAMP:20260426T035132
CREATED:20260425T014218Z
LAST-MODIFIED:20260425T042440Z
UID:10001291-1919491200-1919523600@houseofgospel.com
SUMMARY:Chop It Up" Men's Bible Study 7pm (Fontana) and Women's Bible Study 7pm (Eastvale)
DESCRIPTION:
URL:https://houseofgospel.com/event/chop-it-up-mens-bible-study-7pm-fontana-womens-bible-study-7pm-eastvale/2030-10-29/
END:VEVENT
BEGIN:VEVENT
DTSTART;TZID=UTC:20301105T080000
DTEND;TZID=UTC:20301105T170000
DTSTAMP:20260426T035132
CREATED:20260425T014218Z
LAST-MODIFIED:20260425T042440Z
UID:10001292-1920096000-1920128400@houseofgospel.com
SUMMARY:Chop It Up" Men's Bible Study 7pm (Fontana) and Women's Bible Study 7pm (Eastvale)
DESCRIPTION:
URL:https://houseofgospel.com/event/chop-it-up-mens-bible-study-7pm-fontana-womens-bible-study-7pm-eastvale/2030-11-05/
END:VEVENT
BEGIN:VEVENT
DTSTART;TZID=UTC:20301112T080000
DTEND;TZID=UTC:20301112T170000
DTSTAMP:20260426T035132
CREATED:20260425T014218Z
LAST-MODIFIED:20260425T042440Z
UID:10001293-1920700800-1920733200@houseofgospel.com
SUMMARY:Chop It Up" Men's Bible Study 7pm (Fontana) and Women's Bible Study 7pm (Eastvale)
DESCRIPTION:
URL:https://houseofgospel.com/event/chop-it-up-mens-bible-study-7pm-fontana-womens-bible-study-7pm-eastvale/2030-11-12/
END:VEVENT
BEGIN:VEVENT
DTSTART;TZID=UTC:20301119T080000
DTEND;TZID=UTC:20301119T170000
DTSTAMP:20260426T035132
CREATED:20260425T014218Z
LAST-MODIFIED:20260425T042440Z
UID:10001294-1921305600-1921338000@houseofgospel.com
SUMMARY:Chop It Up" Men's Bible Study 7pm (Fontana) and Women's Bible Study 7pm (Eastvale)
DESCRIPTION:
URL:https://houseofgospel.com/event/chop-it-up-mens-bible-study-7pm-fontana-womens-bible-study-7pm-eastvale/2030-11-19/
END:VEVENT
BEGIN:VEVENT
DTSTART;TZID=UTC:20301126T080000
DTEND;TZID=UTC:20301126T170000
DTSTAMP:20260426T035132
CREATED:20260425T014218Z
LAST-MODIFIED:20260425T042440Z
UID:10001295-1921910400-1921942800@houseofgospel.com
SUMMARY:Chop It Up" Men's Bible Study 7pm (Fontana) and Women's Bible Study 7pm (Eastvale)
DESCRIPTION:
URL:https://houseofgospel.com/event/chop-it-up-mens-bible-study-7pm-fontana-womens-bible-study-7pm-eastvale/2030-11-26/
END:VEVENT
BEGIN:VEVENT
DTSTART;TZID=UTC:20301203T080000
DTEND;TZID=UTC:20301203T170000
DTSTAMP:20260426T035132
CREATED:20260425T014218Z
LAST-MODIFIED:20260425T042440Z
UID:10001296-1922515200-1922547600@houseofgospel.com
SUMMARY:Chop It Up" Men's Bible Study 7pm (Fontana) and Women's Bible Study 7pm (Eastvale)
DESCRIPTION:
URL:https://houseofgospel.com/event/chop-it-up-mens-bible-study-7pm-fontana-womens-bible-study-7pm-eastvale/2030-12-03/
END:VEVENT
BEGIN:VEVENT
DTSTART;TZID=UTC:20301210T080000
DTEND;TZID=UTC:20301210T170000
DTSTAMP:20260426T035132
CREATED:20260425T014218Z
LAST-MODIFIED:20260425T042440Z
UID:10001297-1923120000-1923152400@houseofgospel.com
SUMMARY:Chop It Up" Men's Bible Study 7pm (Fontana) and Women's Bible Study 7pm (Eastvale)
DESCRIPTION:
URL:https://houseofgospel.com/event/chop-it-up-mens-bible-study-7pm-fontana-womens-bible-study-7pm-eastvale/2030-12-10/
END:VEVENT
END:VCALENDAR