BEGIN:VCALENDAR
VERSION:2.0
PRODID:-//houseofgospel.com - ECPv6.9.1//NONSGML v1.0//EN
CALSCALE:GREGORIAN
METHOD:PUBLISH
X-ORIGINAL-URL:https://houseofgospel.com
X-WR-CALDESC:Events for houseofgospel.com
REFRESH-INTERVAL;VALUE=DURATION:PT1H
X-Robots-Tag:noindex
X-PUBLISHED-TTL:PT1H
BEGIN:VTIMEZONE
TZID:UTC
BEGIN:STANDARD
TZOFFSETFROM:+0000
TZOFFSETTO:+0000
TZNAME:UTC
DTSTART:20290101T000000
END:STANDARD
END:VTIMEZONE
BEGIN:VEVENT
DTSTART;TZID=UTC:20291113T080000
DTEND;TZID=UTC:20291113T170000
DTSTAMP:20260425T155108
CREATED:20260425T014218Z
LAST-MODIFIED:20260425T042440Z
UID:10001241-1889251200-1889283600@houseofgospel.com
SUMMARY:Chop It Up" Men's Bible Study 7pm (Fontana) and Women's Bible Study 7pm (Eastvale)
DESCRIPTION:
URL:https://houseofgospel.com/event/chop-it-up-mens-bible-study-7pm-fontana-womens-bible-study-7pm-eastvale/2029-11-13/
END:VEVENT
BEGIN:VEVENT
DTSTART;TZID=UTC:20291120T080000
DTEND;TZID=UTC:20291120T170000
DTSTAMP:20260425T155108
CREATED:20260425T014218Z
LAST-MODIFIED:20260425T042440Z
UID:10001242-1889856000-1889888400@houseofgospel.com
SUMMARY:Chop It Up" Men's Bible Study 7pm (Fontana) and Women's Bible Study 7pm (Eastvale)
DESCRIPTION:
URL:https://houseofgospel.com/event/chop-it-up-mens-bible-study-7pm-fontana-womens-bible-study-7pm-eastvale/2029-11-20/
END:VEVENT
BEGIN:VEVENT
DTSTART;TZID=UTC:20291127T080000
DTEND;TZID=UTC:20291127T170000
DTSTAMP:20260425T155108
CREATED:20260425T014218Z
LAST-MODIFIED:20260425T042440Z
UID:10001243-1890460800-1890493200@houseofgospel.com
SUMMARY:Chop It Up" Men's Bible Study 7pm (Fontana) and Women's Bible Study 7pm (Eastvale)
DESCRIPTION:
URL:https://houseofgospel.com/event/chop-it-up-mens-bible-study-7pm-fontana-womens-bible-study-7pm-eastvale/2029-11-27/
END:VEVENT
BEGIN:VEVENT
DTSTART;TZID=UTC:20291204T080000
DTEND;TZID=UTC:20291204T170000
DTSTAMP:20260425T155108
CREATED:20260425T014218Z
LAST-MODIFIED:20260425T042440Z
UID:10001244-1891065600-1891098000@houseofgospel.com
SUMMARY:Chop It Up" Men's Bible Study 7pm (Fontana) and Women's Bible Study 7pm (Eastvale)
DESCRIPTION:
URL:https://houseofgospel.com/event/chop-it-up-mens-bible-study-7pm-fontana-womens-bible-study-7pm-eastvale/2029-12-04/
END:VEVENT
BEGIN:VEVENT
DTSTART;TZID=UTC:20291211T080000
DTEND;TZID=UTC:20291211T170000
DTSTAMP:20260425T155108
CREATED:20260425T014218Z
LAST-MODIFIED:20260425T042440Z
UID:10001245-1891670400-1891702800@houseofgospel.com
SUMMARY:Chop It Up" Men's Bible Study 7pm (Fontana) and Women's Bible Study 7pm (Eastvale)
DESCRIPTION:
URL:https://houseofgospel.com/event/chop-it-up-mens-bible-study-7pm-fontana-womens-bible-study-7pm-eastvale/2029-12-11/
END:VEVENT
BEGIN:VEVENT
DTSTART;TZID=UTC:20291218T080000
DTEND;TZID=UTC:20291218T170000
DTSTAMP:20260425T155108
CREATED:20260425T014218Z
LAST-MODIFIED:20260425T042440Z
UID:10001246-1892275200-1892307600@houseofgospel.com
SUMMARY:Chop It Up" Men's Bible Study 7pm (Fontana) and Women's Bible Study 7pm (Eastvale)
DESCRIPTION:
URL:https://houseofgospel.com/event/chop-it-up-mens-bible-study-7pm-fontana-womens-bible-study-7pm-eastvale/2029-12-18/
END:VEVENT
BEGIN:VEVENT
DTSTART;TZID=UTC:20291225T080000
DTEND;TZID=UTC:20291225T170000
DTSTAMP:20260425T155108
CREATED:20260425T014218Z
LAST-MODIFIED:20260425T042440Z
UID:10001247-1892880000-1892912400@houseofgospel.com
SUMMARY:Chop It Up" Men's Bible Study 7pm (Fontana) and Women's Bible Study 7pm (Eastvale)
DESCRIPTION:
URL:https://houseofgospel.com/event/chop-it-up-mens-bible-study-7pm-fontana-womens-bible-study-7pm-eastvale/2029-12-25/
END:VEVENT
BEGIN:VEVENT
DTSTART;TZID=UTC:20300101T080000
DTEND;TZID=UTC:20300101T170000
DTSTAMP:20260425T155108
CREATED:20260425T014218Z
LAST-MODIFIED:20260425T042440Z
UID:10001248-1893484800-1893517200@houseofgospel.com
SUMMARY:Chop It Up" Men's Bible Study 7pm (Fontana) and Women's Bible Study 7pm (Eastvale)
DESCRIPTION:
URL:https://houseofgospel.com/event/chop-it-up-mens-bible-study-7pm-fontana-womens-bible-study-7pm-eastvale/2030-01-01/
END:VEVENT
BEGIN:VEVENT
DTSTART;TZID=UTC:20300108T080000
DTEND;TZID=UTC:20300108T170000
DTSTAMP:20260425T155108
CREATED:20260425T014218Z
LAST-MODIFIED:20260425T042440Z
UID:10001249-1894089600-1894122000@houseofgospel.com
SUMMARY:Chop It Up" Men's Bible Study 7pm (Fontana) and Women's Bible Study 7pm (Eastvale)
DESCRIPTION:
URL:https://houseofgospel.com/event/chop-it-up-mens-bible-study-7pm-fontana-womens-bible-study-7pm-eastvale/2030-01-08/
END:VEVENT
BEGIN:VEVENT
DTSTART;TZID=UTC:20300115T080000
DTEND;TZID=UTC:20300115T170000
DTSTAMP:20260425T155108
CREATED:20260425T014218Z
LAST-MODIFIED:20260425T042440Z
UID:10001250-1894694400-1894726800@houseofgospel.com
SUMMARY:Chop It Up" Men's Bible Study 7pm (Fontana) and Women's Bible Study 7pm (Eastvale)
DESCRIPTION:
URL:https://houseofgospel.com/event/chop-it-up-mens-bible-study-7pm-fontana-womens-bible-study-7pm-eastvale/2030-01-15/
END:VEVENT
BEGIN:VEVENT
DTSTART;TZID=UTC:20300122T080000
DTEND;TZID=UTC:20300122T170000
DTSTAMP:20260425T155108
CREATED:20260425T014218Z
LAST-MODIFIED:20260425T042440Z
UID:10001251-1895299200-1895331600@houseofgospel.com
SUMMARY:Chop It Up" Men's Bible Study 7pm (Fontana) and Women's Bible Study 7pm (Eastvale)
DESCRIPTION:
URL:https://houseofgospel.com/event/chop-it-up-mens-bible-study-7pm-fontana-womens-bible-study-7pm-eastvale/2030-01-22/
END:VEVENT
BEGIN:VEVENT
DTSTART;TZID=UTC:20300129T080000
DTEND;TZID=UTC:20300129T170000
DTSTAMP:20260425T155108
CREATED:20260425T014218Z
LAST-MODIFIED:20260425T042440Z
UID:10001252-1895904000-1895936400@houseofgospel.com
SUMMARY:Chop It Up" Men's Bible Study 7pm (Fontana) and Women's Bible Study 7pm (Eastvale)
DESCRIPTION:
URL:https://houseofgospel.com/event/chop-it-up-mens-bible-study-7pm-fontana-womens-bible-study-7pm-eastvale/2030-01-29/
END:VEVENT
BEGIN:VEVENT
DTSTART;TZID=UTC:20300205T080000
DTEND;TZID=UTC:20300205T170000
DTSTAMP:20260425T155108
CREATED:20260425T014218Z
LAST-MODIFIED:20260425T042440Z
UID:10001253-1896508800-1896541200@houseofgospel.com
SUMMARY:Chop It Up" Men's Bible Study 7pm (Fontana) and Women's Bible Study 7pm (Eastvale)
DESCRIPTION:
URL:https://houseofgospel.com/event/chop-it-up-mens-bible-study-7pm-fontana-womens-bible-study-7pm-eastvale/2030-02-05/
END:VEVENT
BEGIN:VEVENT
DTSTART;TZID=UTC:20300212T080000
DTEND;TZID=UTC:20300212T170000
DTSTAMP:20260425T155108
CREATED:20260425T014218Z
LAST-MODIFIED:20260425T042440Z
UID:10001254-1897113600-1897146000@houseofgospel.com
SUMMARY:Chop It Up" Men's Bible Study 7pm (Fontana) and Women's Bible Study 7pm (Eastvale)
DESCRIPTION:
URL:https://houseofgospel.com/event/chop-it-up-mens-bible-study-7pm-fontana-womens-bible-study-7pm-eastvale/2030-02-12/
END:VEVENT
BEGIN:VEVENT
DTSTART;TZID=UTC:20300219T080000
DTEND;TZID=UTC:20300219T170000
DTSTAMP:20260425T155108
CREATED:20260425T014218Z
LAST-MODIFIED:20260425T042440Z
UID:10001255-1897718400-1897750800@houseofgospel.com
SUMMARY:Chop It Up" Men's Bible Study 7pm (Fontana) and Women's Bible Study 7pm (Eastvale)
DESCRIPTION:
URL:https://houseofgospel.com/event/chop-it-up-mens-bible-study-7pm-fontana-womens-bible-study-7pm-eastvale/2030-02-19/
END:VEVENT
BEGIN:VEVENT
DTSTART;TZID=UTC:20300226T080000
DTEND;TZID=UTC:20300226T170000
DTSTAMP:20260425T155108
CREATED:20260425T014218Z
LAST-MODIFIED:20260425T042440Z
UID:10001256-1898323200-1898355600@houseofgospel.com
SUMMARY:Chop It Up" Men's Bible Study 7pm (Fontana) and Women's Bible Study 7pm (Eastvale)
DESCRIPTION:
URL:https://houseofgospel.com/event/chop-it-up-mens-bible-study-7pm-fontana-womens-bible-study-7pm-eastvale/2030-02-26/
END:VEVENT
BEGIN:VEVENT
DTSTART;TZID=UTC:20300305T080000
DTEND;TZID=UTC:20300305T170000
DTSTAMP:20260425T155108
CREATED:20260425T014218Z
LAST-MODIFIED:20260425T042440Z
UID:10001257-1898928000-1898960400@houseofgospel.com
SUMMARY:Chop It Up" Men's Bible Study 7pm (Fontana) and Women's Bible Study 7pm (Eastvale)
DESCRIPTION:
URL:https://houseofgospel.com/event/chop-it-up-mens-bible-study-7pm-fontana-womens-bible-study-7pm-eastvale/2030-03-05/
END:VEVENT
BEGIN:VEVENT
DTSTART;TZID=UTC:20300312T080000
DTEND;TZID=UTC:20300312T170000
DTSTAMP:20260425T155108
CREATED:20260425T014218Z
LAST-MODIFIED:20260425T042440Z
UID:10001258-1899532800-1899565200@houseofgospel.com
SUMMARY:Chop It Up" Men's Bible Study 7pm (Fontana) and Women's Bible Study 7pm (Eastvale)
DESCRIPTION:
URL:https://houseofgospel.com/event/chop-it-up-mens-bible-study-7pm-fontana-womens-bible-study-7pm-eastvale/2030-03-12/
END:VEVENT
BEGIN:VEVENT
DTSTART;TZID=UTC:20300319T080000
DTEND;TZID=UTC:20300319T170000
DTSTAMP:20260425T155108
CREATED:20260425T014218Z
LAST-MODIFIED:20260425T042440Z
UID:10001259-1900137600-1900170000@houseofgospel.com
SUMMARY:Chop It Up" Men's Bible Study 7pm (Fontana) and Women's Bible Study 7pm (Eastvale)
DESCRIPTION:
URL:https://houseofgospel.com/event/chop-it-up-mens-bible-study-7pm-fontana-womens-bible-study-7pm-eastvale/2030-03-19/
END:VEVENT
BEGIN:VEVENT
DTSTART;TZID=UTC:20300326T080000
DTEND;TZID=UTC:20300326T170000
DTSTAMP:20260425T155108
CREATED:20260425T014218Z
LAST-MODIFIED:20260425T042440Z
UID:10001260-1900742400-1900774800@houseofgospel.com
SUMMARY:Chop It Up" Men's Bible Study 7pm (Fontana) and Women's Bible Study 7pm (Eastvale)
DESCRIPTION:
URL:https://houseofgospel.com/event/chop-it-up-mens-bible-study-7pm-fontana-womens-bible-study-7pm-eastvale/2030-03-26/
END:VEVENT
BEGIN:VEVENT
DTSTART;TZID=UTC:20300402T080000
DTEND;TZID=UTC:20300402T170000
DTSTAMP:20260425T155108
CREATED:20260425T014218Z
LAST-MODIFIED:20260425T042440Z
UID:10001261-1901347200-1901379600@houseofgospel.com
SUMMARY:Chop It Up" Men's Bible Study 7pm (Fontana) and Women's Bible Study 7pm (Eastvale)
DESCRIPTION:
URL:https://houseofgospel.com/event/chop-it-up-mens-bible-study-7pm-fontana-womens-bible-study-7pm-eastvale/2030-04-02/
END:VEVENT
BEGIN:VEVENT
DTSTART;TZID=UTC:20300409T080000
DTEND;TZID=UTC:20300409T170000
DTSTAMP:20260425T155108
CREATED:20260425T014218Z
LAST-MODIFIED:20260425T042440Z
UID:10001262-1901952000-1901984400@houseofgospel.com
SUMMARY:Chop It Up" Men's Bible Study 7pm (Fontana) and Women's Bible Study 7pm (Eastvale)
DESCRIPTION:
URL:https://houseofgospel.com/event/chop-it-up-mens-bible-study-7pm-fontana-womens-bible-study-7pm-eastvale/2030-04-09/
END:VEVENT
BEGIN:VEVENT
DTSTART;TZID=UTC:20300416T080000
DTEND;TZID=UTC:20300416T170000
DTSTAMP:20260425T155108
CREATED:20260425T014218Z
LAST-MODIFIED:20260425T042440Z
UID:10001263-1902556800-1902589200@houseofgospel.com
SUMMARY:Chop It Up" Men's Bible Study 7pm (Fontana) and Women's Bible Study 7pm (Eastvale)
DESCRIPTION:
URL:https://houseofgospel.com/event/chop-it-up-mens-bible-study-7pm-fontana-womens-bible-study-7pm-eastvale/2030-04-16/
END:VEVENT
BEGIN:VEVENT
DTSTART;TZID=UTC:20300423T080000
DTEND;TZID=UTC:20300423T170000
DTSTAMP:20260425T155108
CREATED:20260425T014218Z
LAST-MODIFIED:20260425T042440Z
UID:10001264-1903161600-1903194000@houseofgospel.com
SUMMARY:Chop It Up" Men's Bible Study 7pm (Fontana) and Women's Bible Study 7pm (Eastvale)
DESCRIPTION:
URL:https://houseofgospel.com/event/chop-it-up-mens-bible-study-7pm-fontana-womens-bible-study-7pm-eastvale/2030-04-23/
END:VEVENT
BEGIN:VEVENT
DTSTART;TZID=UTC:20300430T080000
DTEND;TZID=UTC:20300430T170000
DTSTAMP:20260425T155108
CREATED:20260425T014218Z
LAST-MODIFIED:20260425T042440Z
UID:10001265-1903766400-1903798800@houseofgospel.com
SUMMARY:Chop It Up" Men's Bible Study 7pm (Fontana) and Women's Bible Study 7pm (Eastvale)
DESCRIPTION:
URL:https://houseofgospel.com/event/chop-it-up-mens-bible-study-7pm-fontana-womens-bible-study-7pm-eastvale/2030-04-30/
END:VEVENT
BEGIN:VEVENT
DTSTART;TZID=UTC:20300507T080000
DTEND;TZID=UTC:20300507T170000
DTSTAMP:20260425T155108
CREATED:20260425T014218Z
LAST-MODIFIED:20260425T042440Z
UID:10001266-1904371200-1904403600@houseofgospel.com
SUMMARY:Chop It Up" Men's Bible Study 7pm (Fontana) and Women's Bible Study 7pm (Eastvale)
DESCRIPTION:
URL:https://houseofgospel.com/event/chop-it-up-mens-bible-study-7pm-fontana-womens-bible-study-7pm-eastvale/2030-05-07/
END:VEVENT
BEGIN:VEVENT
DTSTART;TZID=UTC:20300514T080000
DTEND;TZID=UTC:20300514T170000
DTSTAMP:20260425T155108
CREATED:20260425T014218Z
LAST-MODIFIED:20260425T042440Z
UID:10001267-1904976000-1905008400@houseofgospel.com
SUMMARY:Chop It Up" Men's Bible Study 7pm (Fontana) and Women's Bible Study 7pm (Eastvale)
DESCRIPTION:
URL:https://houseofgospel.com/event/chop-it-up-mens-bible-study-7pm-fontana-womens-bible-study-7pm-eastvale/2030-05-14/
END:VEVENT
BEGIN:VEVENT
DTSTART;TZID=UTC:20300521T080000
DTEND;TZID=UTC:20300521T170000
DTSTAMP:20260425T155108
CREATED:20260425T014218Z
LAST-MODIFIED:20260425T042440Z
UID:10001268-1905580800-1905613200@houseofgospel.com
SUMMARY:Chop It Up" Men's Bible Study 7pm (Fontana) and Women's Bible Study 7pm (Eastvale)
DESCRIPTION:
URL:https://houseofgospel.com/event/chop-it-up-mens-bible-study-7pm-fontana-womens-bible-study-7pm-eastvale/2030-05-21/
END:VEVENT
BEGIN:VEVENT
DTSTART;TZID=UTC:20300528T080000
DTEND;TZID=UTC:20300528T170000
DTSTAMP:20260425T155108
CREATED:20260425T014218Z
LAST-MODIFIED:20260425T042440Z
UID:10001269-1906185600-1906218000@houseofgospel.com
SUMMARY:Chop It Up" Men's Bible Study 7pm (Fontana) and Women's Bible Study 7pm (Eastvale)
DESCRIPTION:
URL:https://houseofgospel.com/event/chop-it-up-mens-bible-study-7pm-fontana-womens-bible-study-7pm-eastvale/2030-05-28/
END:VEVENT
BEGIN:VEVENT
DTSTART;TZID=UTC:20300604T080000
DTEND;TZID=UTC:20300604T170000
DTSTAMP:20260425T155108
CREATED:20260425T014218Z
LAST-MODIFIED:20260425T042440Z
UID:10001270-1906790400-1906822800@houseofgospel.com
SUMMARY:Chop It Up" Men's Bible Study 7pm (Fontana) and Women's Bible Study 7pm (Eastvale)
DESCRIPTION:
URL:https://houseofgospel.com/event/chop-it-up-mens-bible-study-7pm-fontana-womens-bible-study-7pm-eastvale/2030-06-04/
END:VEVENT
END:VCALENDAR