BEGIN:VCALENDAR
VERSION:2.0
PRODID:-//houseofgospel.com - ECPv6.9.1//NONSGML v1.0//EN
CALSCALE:GREGORIAN
METHOD:PUBLISH
X-WR-CALNAME:houseofgospel.com
X-ORIGINAL-URL:https://houseofgospel.com
X-WR-CALDESC:Events for houseofgospel.com
REFRESH-INTERVAL;VALUE=DURATION:PT1H
X-Robots-Tag:noindex
X-PUBLISHED-TTL:PT1H
BEGIN:VTIMEZONE
TZID:UTC
BEGIN:STANDARD
TZOFFSETFROM:+0000
TZOFFSETTO:+0000
TZNAME:UTC
DTSTART:20310101T000000
END:STANDARD
END:VTIMEZONE
BEGIN:VEVENT
DTSTART;TZID=UTC:20310225T080000
DTEND;TZID=UTC:20310225T170000
DTSTAMP:20260425T221843
CREATED:20260425T014218Z
LAST-MODIFIED:20260425T042440Z
UID:10001308-1929772800-1929805200@houseofgospel.com
SUMMARY:Chop It Up" Men's Bible Study 7pm (Fontana) and Women's Bible Study 7pm (Eastvale)
DESCRIPTION:
URL:https://houseofgospel.com/event/chop-it-up-mens-bible-study-7pm-fontana-womens-bible-study-7pm-eastvale/2031-02-25/
END:VEVENT
BEGIN:VEVENT
DTSTART;TZID=UTC:20310304T080000
DTEND;TZID=UTC:20310304T170000
DTSTAMP:20260425T221843
CREATED:20260425T014218Z
LAST-MODIFIED:20260425T042440Z
UID:10001309-1930377600-1930410000@houseofgospel.com
SUMMARY:Chop It Up" Men's Bible Study 7pm (Fontana) and Women's Bible Study 7pm (Eastvale)
DESCRIPTION:
URL:https://houseofgospel.com/event/chop-it-up-mens-bible-study-7pm-fontana-womens-bible-study-7pm-eastvale/2031-03-04/
END:VEVENT
BEGIN:VEVENT
DTSTART;TZID=UTC:20310311T080000
DTEND;TZID=UTC:20310311T170000
DTSTAMP:20260425T221843
CREATED:20260425T014218Z
LAST-MODIFIED:20260425T042440Z
UID:10001310-1930982400-1931014800@houseofgospel.com
SUMMARY:Chop It Up" Men's Bible Study 7pm (Fontana) and Women's Bible Study 7pm (Eastvale)
DESCRIPTION:
URL:https://houseofgospel.com/event/chop-it-up-mens-bible-study-7pm-fontana-womens-bible-study-7pm-eastvale/2031-03-11/
END:VEVENT
BEGIN:VEVENT
DTSTART;TZID=UTC:20310318T080000
DTEND;TZID=UTC:20310318T170000
DTSTAMP:20260425T221843
CREATED:20260425T014218Z
LAST-MODIFIED:20260425T042440Z
UID:10001311-1931587200-1931619600@houseofgospel.com
SUMMARY:Chop It Up" Men's Bible Study 7pm (Fontana) and Women's Bible Study 7pm (Eastvale)
DESCRIPTION:
URL:https://houseofgospel.com/event/chop-it-up-mens-bible-study-7pm-fontana-womens-bible-study-7pm-eastvale/2031-03-18/
END:VEVENT
BEGIN:VEVENT
DTSTART;TZID=UTC:20310325T080000
DTEND;TZID=UTC:20310325T170000
DTSTAMP:20260425T221843
CREATED:20260425T014218Z
LAST-MODIFIED:20260425T042440Z
UID:10001312-1932192000-1932224400@houseofgospel.com
SUMMARY:Chop It Up" Men's Bible Study 7pm (Fontana) and Women's Bible Study 7pm (Eastvale)
DESCRIPTION:
URL:https://houseofgospel.com/event/chop-it-up-mens-bible-study-7pm-fontana-womens-bible-study-7pm-eastvale/2031-03-25/
END:VEVENT
BEGIN:VEVENT
DTSTART;TZID=UTC:20310401T080000
DTEND;TZID=UTC:20310401T170000
DTSTAMP:20260425T221843
CREATED:20260425T014218Z
LAST-MODIFIED:20260425T042440Z
UID:10001313-1932796800-1932829200@houseofgospel.com
SUMMARY:Chop It Up" Men's Bible Study 7pm (Fontana) and Women's Bible Study 7pm (Eastvale)
DESCRIPTION:
URL:https://houseofgospel.com/event/chop-it-up-mens-bible-study-7pm-fontana-womens-bible-study-7pm-eastvale/2031-04-01/
END:VEVENT
BEGIN:VEVENT
DTSTART;TZID=UTC:20310408T080000
DTEND;TZID=UTC:20310408T170000
DTSTAMP:20260425T221843
CREATED:20260425T014218Z
LAST-MODIFIED:20260425T042440Z
UID:10001314-1933401600-1933434000@houseofgospel.com
SUMMARY:Chop It Up" Men's Bible Study 7pm (Fontana) and Women's Bible Study 7pm (Eastvale)
DESCRIPTION:
URL:https://houseofgospel.com/event/chop-it-up-mens-bible-study-7pm-fontana-womens-bible-study-7pm-eastvale/2031-04-08/
END:VEVENT
BEGIN:VEVENT
DTSTART;TZID=UTC:20310415T080000
DTEND;TZID=UTC:20310415T170000
DTSTAMP:20260425T221843
CREATED:20260425T014218Z
LAST-MODIFIED:20260425T042440Z
UID:10001315-1934006400-1934038800@houseofgospel.com
SUMMARY:Chop It Up" Men's Bible Study 7pm (Fontana) and Women's Bible Study 7pm (Eastvale)
DESCRIPTION:
URL:https://houseofgospel.com/event/chop-it-up-mens-bible-study-7pm-fontana-womens-bible-study-7pm-eastvale/2031-04-15/
END:VEVENT
BEGIN:VEVENT
DTSTART;TZID=UTC:20310422T080000
DTEND;TZID=UTC:20310422T170000
DTSTAMP:20260425T221843
CREATED:20260425T014218Z
LAST-MODIFIED:20260425T042440Z
UID:10001316-1934611200-1934643600@houseofgospel.com
SUMMARY:Chop It Up" Men's Bible Study 7pm (Fontana) and Women's Bible Study 7pm (Eastvale)
DESCRIPTION:
URL:https://houseofgospel.com/event/chop-it-up-mens-bible-study-7pm-fontana-womens-bible-study-7pm-eastvale/2031-04-22/
END:VEVENT
END:VCALENDAR