BEGIN:VCALENDAR
VERSION:2.0
PRODID:-//houseofgospel.com - ECPv6.9.1//NONSGML v1.0//EN
CALSCALE:GREGORIAN
METHOD:PUBLISH
X-WR-CALNAME:houseofgospel.com
X-ORIGINAL-URL:https://houseofgospel.com
X-WR-CALDESC:Events for houseofgospel.com
REFRESH-INTERVAL;VALUE=DURATION:PT1H
X-Robots-Tag:noindex
X-PUBLISHED-TTL:PT1H
BEGIN:VTIMEZONE
TZID:UTC
BEGIN:STANDARD
TZOFFSETFROM:+0000
TZOFFSETTO:+0000
TZNAME:UTC
DTSTART:20250101T000000
END:STANDARD
END:VTIMEZONE
BEGIN:VEVENT
DTSTART;TZID=UTC:20260728T080000
DTEND;TZID=UTC:20260728T170000
DTSTAMP:20260425T162952
CREATED:20260425T014218Z
LAST-MODIFIED:20260425T042440Z
UID:10001069-1785225600-1785258000@houseofgospel.com
SUMMARY:Chop It Up" Men's Bible Study 7pm (Fontana) and Women's Bible Study 7pm (Eastvale)
DESCRIPTION:
URL:https://houseofgospel.com/event/chop-it-up-mens-bible-study-7pm-fontana-womens-bible-study-7pm-eastvale/2026-07-28/
END:VEVENT
BEGIN:VEVENT
DTSTART;TZID=UTC:20260721T080000
DTEND;TZID=UTC:20260721T170000
DTSTAMP:20260425T162952
CREATED:20260425T014218Z
LAST-MODIFIED:20260425T042440Z
UID:10001068-1784620800-1784653200@houseofgospel.com
SUMMARY:Chop It Up" Men's Bible Study 7pm (Fontana) and Women's Bible Study 7pm (Eastvale)
DESCRIPTION:
URL:https://houseofgospel.com/event/chop-it-up-mens-bible-study-7pm-fontana-womens-bible-study-7pm-eastvale/2026-07-21/
END:VEVENT
BEGIN:VEVENT
DTSTART;TZID=UTC:20260714T080000
DTEND;TZID=UTC:20260714T170000
DTSTAMP:20260425T162952
CREATED:20260425T014218Z
LAST-MODIFIED:20260425T042440Z
UID:10001067-1784016000-1784048400@houseofgospel.com
SUMMARY:Chop It Up" Men's Bible Study 7pm (Fontana) and Women's Bible Study 7pm (Eastvale)
DESCRIPTION:
URL:https://houseofgospel.com/event/chop-it-up-mens-bible-study-7pm-fontana-womens-bible-study-7pm-eastvale/2026-07-14/
END:VEVENT
BEGIN:VEVENT
DTSTART;TZID=UTC:20260707T080000
DTEND;TZID=UTC:20260707T170000
DTSTAMP:20260425T162952
CREATED:20260425T014218Z
LAST-MODIFIED:20260425T042440Z
UID:10001066-1783411200-1783443600@houseofgospel.com
SUMMARY:Chop It Up" Men's Bible Study 7pm (Fontana) and Women's Bible Study 7pm (Eastvale)
DESCRIPTION:
URL:https://houseofgospel.com/event/chop-it-up-mens-bible-study-7pm-fontana-womens-bible-study-7pm-eastvale/2026-07-07/
END:VEVENT
BEGIN:VEVENT
DTSTART;TZID=UTC:20260630T080000
DTEND;TZID=UTC:20260630T170000
DTSTAMP:20260425T162952
CREATED:20260425T014218Z
LAST-MODIFIED:20260425T042440Z
UID:10001065-1782806400-1782838800@houseofgospel.com
SUMMARY:Chop It Up" Men's Bible Study 7pm (Fontana) and Women's Bible Study 7pm (Eastvale)
DESCRIPTION:
URL:https://houseofgospel.com/event/chop-it-up-mens-bible-study-7pm-fontana-womens-bible-study-7pm-eastvale/2026-06-30/
END:VEVENT
BEGIN:VEVENT
DTSTART;TZID=UTC:20260623T080000
DTEND;TZID=UTC:20260623T170000
DTSTAMP:20260425T162952
CREATED:20260425T014218Z
LAST-MODIFIED:20260425T042440Z
UID:10001064-1782201600-1782234000@houseofgospel.com
SUMMARY:Chop It Up" Men's Bible Study 7pm (Fontana) and Women's Bible Study 7pm (Eastvale)
DESCRIPTION:
URL:https://houseofgospel.com/event/chop-it-up-mens-bible-study-7pm-fontana-womens-bible-study-7pm-eastvale/2026-06-23/
END:VEVENT
BEGIN:VEVENT
DTSTART;TZID=UTC:20260616T080000
DTEND;TZID=UTC:20260616T170000
DTSTAMP:20260425T162952
CREATED:20260425T014218Z
LAST-MODIFIED:20260425T042440Z
UID:10001063-1781596800-1781629200@houseofgospel.com
SUMMARY:Chop It Up" Men's Bible Study 7pm (Fontana) and Women's Bible Study 7pm (Eastvale)
DESCRIPTION:
URL:https://houseofgospel.com/event/chop-it-up-mens-bible-study-7pm-fontana-womens-bible-study-7pm-eastvale/2026-06-16/
END:VEVENT
BEGIN:VEVENT
DTSTART;TZID=UTC:20260609T080000
DTEND;TZID=UTC:20260609T170000
DTSTAMP:20260425T162952
CREATED:20260425T014218Z
LAST-MODIFIED:20260425T042440Z
UID:10001062-1780992000-1781024400@houseofgospel.com
SUMMARY:Chop It Up" Men's Bible Study 7pm (Fontana) and Women's Bible Study 7pm (Eastvale)
DESCRIPTION:
URL:https://houseofgospel.com/event/chop-it-up-mens-bible-study-7pm-fontana-womens-bible-study-7pm-eastvale/2026-06-09/
END:VEVENT
BEGIN:VEVENT
DTSTART;TZID=UTC:20260602T080000
DTEND;TZID=UTC:20260602T170000
DTSTAMP:20260425T162952
CREATED:20260425T014218Z
LAST-MODIFIED:20260425T042440Z
UID:10001061-1780387200-1780419600@houseofgospel.com
SUMMARY:Chop It Up" Men's Bible Study 7pm (Fontana) and Women's Bible Study 7pm (Eastvale)
DESCRIPTION:
URL:https://houseofgospel.com/event/chop-it-up-mens-bible-study-7pm-fontana-womens-bible-study-7pm-eastvale/2026-06-02/
END:VEVENT
BEGIN:VEVENT
DTSTART;TZID=UTC:20260526T080000
DTEND;TZID=UTC:20260526T170000
DTSTAMP:20260425T162952
CREATED:20260425T014218Z
LAST-MODIFIED:20260425T042440Z
UID:10001060-1779782400-1779814800@houseofgospel.com
SUMMARY:Chop It Up" Men's Bible Study 7pm (Fontana) and Women's Bible Study 7pm (Eastvale)
DESCRIPTION:
URL:https://houseofgospel.com/event/chop-it-up-mens-bible-study-7pm-fontana-womens-bible-study-7pm-eastvale/2026-05-26/
END:VEVENT
BEGIN:VEVENT
DTSTART;TZID=UTC:20260519T080000
DTEND;TZID=UTC:20260519T170000
DTSTAMP:20260425T162952
CREATED:20260425T014218Z
LAST-MODIFIED:20260425T042440Z
UID:10001059-1779177600-1779210000@houseofgospel.com
SUMMARY:Chop It Up" Men's Bible Study 7pm (Fontana) and Women's Bible Study 7pm (Eastvale)
DESCRIPTION:
URL:https://houseofgospel.com/event/chop-it-up-mens-bible-study-7pm-fontana-womens-bible-study-7pm-eastvale/2026-05-19/
END:VEVENT
BEGIN:VEVENT
DTSTART;TZID=UTC:20260512T080000
DTEND;TZID=UTC:20260512T170000
DTSTAMP:20260425T162952
CREATED:20260425T014218Z
LAST-MODIFIED:20260425T042440Z
UID:10001058-1778572800-1778605200@houseofgospel.com
SUMMARY:Chop It Up" Men's Bible Study 7pm (Fontana) and Women's Bible Study 7pm (Eastvale)
DESCRIPTION:
URL:https://houseofgospel.com/event/chop-it-up-mens-bible-study-7pm-fontana-womens-bible-study-7pm-eastvale/2026-05-12/
END:VEVENT
BEGIN:VEVENT
DTSTART;TZID=UTC:20260505T080000
DTEND;TZID=UTC:20260505T170000
DTSTAMP:20260425T162952
CREATED:20260425T014218Z
LAST-MODIFIED:20260425T042440Z
UID:10001057-1777968000-1778000400@houseofgospel.com
SUMMARY:Chop It Up" Men's Bible Study 7pm (Fontana) and Women's Bible Study 7pm (Eastvale)
DESCRIPTION:
URL:https://houseofgospel.com/event/chop-it-up-mens-bible-study-7pm-fontana-womens-bible-study-7pm-eastvale/2026-05-05/
END:VEVENT
BEGIN:VEVENT
DTSTART;TZID=UTC:20260428T080000
DTEND;TZID=UTC:20260428T170000
DTSTAMP:20260425T162952
CREATED:20260425T014218Z
LAST-MODIFIED:20260425T042440Z
UID:10001056-1777363200-1777395600@houseofgospel.com
SUMMARY:Chop It Up" Men's Bible Study 7pm (Fontana) and Women's Bible Study 7pm (Eastvale)
DESCRIPTION:
URL:https://houseofgospel.com/event/chop-it-up-mens-bible-study-7pm-fontana-womens-bible-study-7pm-eastvale/2026-04-28/
END:VEVENT
BEGIN:VEVENT
DTSTART;TZID=UTC:20250418T190000
DTEND;TZID=UTC:20250418T203000
DTSTAMP:20260425T162952
CREATED:20250416T013541Z
LAST-MODIFIED:20250416T014707Z
UID:10000531-1745002800-1745008200@houseofgospel.com
SUMMARY:Engagement
DESCRIPTION:H.O.G. would like to welcome you to our Engagement night! A place to encounter God with family! \n\n\n\nGood Friday Prayer & Worship Service \n\n\n\n11960 Foothill Blvd\, Rancho Cucamonga CA\, 91739 \n\n\n\nEmail info@houseofgospel.com to RSVP by April 14th
URL:https://houseofgospel.com/event/engagement-2/
ATTACH;FMTTYPE=image/png:https://houseofgospel.com/wp-content/uploads/2025/04/Engagement.png
END:VEVENT
END:VCALENDAR