BEGIN:VCALENDAR
VERSION:2.0
PRODID:-//houseofgospel.com - ECPv6.9.1//NONSGML v1.0//EN
CALSCALE:GREGORIAN
METHOD:PUBLISH
X-WR-CALNAME:houseofgospel.com
X-ORIGINAL-URL:https://houseofgospel.com
X-WR-CALDESC:Events for houseofgospel.com
REFRESH-INTERVAL;VALUE=DURATION:PT1H
X-Robots-Tag:noindex
X-PUBLISHED-TTL:PT1H
BEGIN:VTIMEZONE
TZID:UTC
BEGIN:STANDARD
TZOFFSETFROM:+0000
TZOFFSETTO:+0000
TZNAME:UTC
DTSTART:20270101T000000
END:STANDARD
END:VTIMEZONE
BEGIN:VEVENT
DTSTART;TZID=UTC:20271109T080000
DTEND;TZID=UTC:20271109T170000
DTSTAMP:20260425T134704
CREATED:20260425T014218Z
LAST-MODIFIED:20260425T042440Z
UID:10001136-1825747200-1825779600@houseofgospel.com
SUMMARY:Chop It Up" Men's Bible Study 7pm (Fontana) and Women's Bible Study 7pm (Eastvale)
DESCRIPTION:
URL:https://houseofgospel.com/event/chop-it-up-mens-bible-study-7pm-fontana-womens-bible-study-7pm-eastvale/2027-11-09/
END:VEVENT
BEGIN:VEVENT
DTSTART;TZID=UTC:20271116T080000
DTEND;TZID=UTC:20271116T170000
DTSTAMP:20260425T134704
CREATED:20260425T014218Z
LAST-MODIFIED:20260425T042440Z
UID:10001137-1826352000-1826384400@houseofgospel.com
SUMMARY:Chop It Up" Men's Bible Study 7pm (Fontana) and Women's Bible Study 7pm (Eastvale)
DESCRIPTION:
URL:https://houseofgospel.com/event/chop-it-up-mens-bible-study-7pm-fontana-womens-bible-study-7pm-eastvale/2027-11-16/
END:VEVENT
BEGIN:VEVENT
DTSTART;TZID=UTC:20271123T080000
DTEND;TZID=UTC:20271123T170000
DTSTAMP:20260425T134704
CREATED:20260425T014218Z
LAST-MODIFIED:20260425T042440Z
UID:10001138-1826956800-1826989200@houseofgospel.com
SUMMARY:Chop It Up" Men's Bible Study 7pm (Fontana) and Women's Bible Study 7pm (Eastvale)
DESCRIPTION:
URL:https://houseofgospel.com/event/chop-it-up-mens-bible-study-7pm-fontana-womens-bible-study-7pm-eastvale/2027-11-23/
END:VEVENT
BEGIN:VEVENT
DTSTART;TZID=UTC:20271130T080000
DTEND;TZID=UTC:20271130T170000
DTSTAMP:20260425T134704
CREATED:20260425T014218Z
LAST-MODIFIED:20260425T042440Z
UID:10001139-1827561600-1827594000@houseofgospel.com
SUMMARY:Chop It Up" Men's Bible Study 7pm (Fontana) and Women's Bible Study 7pm (Eastvale)
DESCRIPTION:
URL:https://houseofgospel.com/event/chop-it-up-mens-bible-study-7pm-fontana-womens-bible-study-7pm-eastvale/2027-11-30/
END:VEVENT
BEGIN:VEVENT
DTSTART;TZID=UTC:20271207T080000
DTEND;TZID=UTC:20271207T170000
DTSTAMP:20260425T134704
CREATED:20260425T014218Z
LAST-MODIFIED:20260425T042440Z
UID:10001140-1828166400-1828198800@houseofgospel.com
SUMMARY:Chop It Up" Men's Bible Study 7pm (Fontana) and Women's Bible Study 7pm (Eastvale)
DESCRIPTION:
URL:https://houseofgospel.com/event/chop-it-up-mens-bible-study-7pm-fontana-womens-bible-study-7pm-eastvale/2027-12-07/
END:VEVENT
BEGIN:VEVENT
DTSTART;TZID=UTC:20271214T080000
DTEND;TZID=UTC:20271214T170000
DTSTAMP:20260425T134704
CREATED:20260425T014218Z
LAST-MODIFIED:20260425T042440Z
UID:10001141-1828771200-1828803600@houseofgospel.com
SUMMARY:Chop It Up" Men's Bible Study 7pm (Fontana) and Women's Bible Study 7pm (Eastvale)
DESCRIPTION:
URL:https://houseofgospel.com/event/chop-it-up-mens-bible-study-7pm-fontana-womens-bible-study-7pm-eastvale/2027-12-14/
END:VEVENT
BEGIN:VEVENT
DTSTART;TZID=UTC:20271221T080000
DTEND;TZID=UTC:20271221T170000
DTSTAMP:20260425T134704
CREATED:20260425T014218Z
LAST-MODIFIED:20260425T042440Z
UID:10001142-1829376000-1829408400@houseofgospel.com
SUMMARY:Chop It Up" Men's Bible Study 7pm (Fontana) and Women's Bible Study 7pm (Eastvale)
DESCRIPTION:
URL:https://houseofgospel.com/event/chop-it-up-mens-bible-study-7pm-fontana-womens-bible-study-7pm-eastvale/2027-12-21/
END:VEVENT
BEGIN:VEVENT
DTSTART;TZID=UTC:20271228T080000
DTEND;TZID=UTC:20271228T170000
DTSTAMP:20260425T134704
CREATED:20260425T014218Z
LAST-MODIFIED:20260425T042440Z
UID:10001143-1829980800-1830013200@houseofgospel.com
SUMMARY:Chop It Up" Men's Bible Study 7pm (Fontana) and Women's Bible Study 7pm (Eastvale)
DESCRIPTION:
URL:https://houseofgospel.com/event/chop-it-up-mens-bible-study-7pm-fontana-womens-bible-study-7pm-eastvale/2027-12-28/
END:VEVENT
BEGIN:VEVENT
DTSTART;TZID=UTC:20280104T080000
DTEND;TZID=UTC:20280104T170000
DTSTAMP:20260425T134704
CREATED:20260425T014218Z
LAST-MODIFIED:20260425T042440Z
UID:10001144-1830585600-1830618000@houseofgospel.com
SUMMARY:Chop It Up" Men's Bible Study 7pm (Fontana) and Women's Bible Study 7pm (Eastvale)
DESCRIPTION:
URL:https://houseofgospel.com/event/chop-it-up-mens-bible-study-7pm-fontana-womens-bible-study-7pm-eastvale/2028-01-04/
END:VEVENT
BEGIN:VEVENT
DTSTART;TZID=UTC:20280111T080000
DTEND;TZID=UTC:20280111T170000
DTSTAMP:20260425T134704
CREATED:20260425T014218Z
LAST-MODIFIED:20260425T042440Z
UID:10001145-1831190400-1831222800@houseofgospel.com
SUMMARY:Chop It Up" Men's Bible Study 7pm (Fontana) and Women's Bible Study 7pm (Eastvale)
DESCRIPTION:
URL:https://houseofgospel.com/event/chop-it-up-mens-bible-study-7pm-fontana-womens-bible-study-7pm-eastvale/2028-01-11/
END:VEVENT
BEGIN:VEVENT
DTSTART;TZID=UTC:20280118T080000
DTEND;TZID=UTC:20280118T170000
DTSTAMP:20260425T134704
CREATED:20260425T014218Z
LAST-MODIFIED:20260425T042440Z
UID:10001146-1831795200-1831827600@houseofgospel.com
SUMMARY:Chop It Up" Men's Bible Study 7pm (Fontana) and Women's Bible Study 7pm (Eastvale)
DESCRIPTION:
URL:https://houseofgospel.com/event/chop-it-up-mens-bible-study-7pm-fontana-womens-bible-study-7pm-eastvale/2028-01-18/
END:VEVENT
BEGIN:VEVENT
DTSTART;TZID=UTC:20280125T080000
DTEND;TZID=UTC:20280125T170000
DTSTAMP:20260425T134704
CREATED:20260425T014218Z
LAST-MODIFIED:20260425T042440Z
UID:10001147-1832400000-1832432400@houseofgospel.com
SUMMARY:Chop It Up" Men's Bible Study 7pm (Fontana) and Women's Bible Study 7pm (Eastvale)
DESCRIPTION:
URL:https://houseofgospel.com/event/chop-it-up-mens-bible-study-7pm-fontana-womens-bible-study-7pm-eastvale/2028-01-25/
END:VEVENT
BEGIN:VEVENT
DTSTART;TZID=UTC:20280201T080000
DTEND;TZID=UTC:20280201T170000
DTSTAMP:20260425T134704
CREATED:20260425T014218Z
LAST-MODIFIED:20260425T042440Z
UID:10001148-1833004800-1833037200@houseofgospel.com
SUMMARY:Chop It Up" Men's Bible Study 7pm (Fontana) and Women's Bible Study 7pm (Eastvale)
DESCRIPTION:
URL:https://houseofgospel.com/event/chop-it-up-mens-bible-study-7pm-fontana-womens-bible-study-7pm-eastvale/2028-02-01/
END:VEVENT
BEGIN:VEVENT
DTSTART;TZID=UTC:20280208T080000
DTEND;TZID=UTC:20280208T170000
DTSTAMP:20260425T134704
CREATED:20260425T014218Z
LAST-MODIFIED:20260425T042440Z
UID:10001149-1833609600-1833642000@houseofgospel.com
SUMMARY:Chop It Up" Men's Bible Study 7pm (Fontana) and Women's Bible Study 7pm (Eastvale)
DESCRIPTION:
URL:https://houseofgospel.com/event/chop-it-up-mens-bible-study-7pm-fontana-womens-bible-study-7pm-eastvale/2028-02-08/
END:VEVENT
BEGIN:VEVENT
DTSTART;TZID=UTC:20280215T080000
DTEND;TZID=UTC:20280215T170000
DTSTAMP:20260425T134704
CREATED:20260425T014218Z
LAST-MODIFIED:20260425T042440Z
UID:10001150-1834214400-1834246800@houseofgospel.com
SUMMARY:Chop It Up" Men's Bible Study 7pm (Fontana) and Women's Bible Study 7pm (Eastvale)
DESCRIPTION:
URL:https://houseofgospel.com/event/chop-it-up-mens-bible-study-7pm-fontana-womens-bible-study-7pm-eastvale/2028-02-15/
END:VEVENT
BEGIN:VEVENT
DTSTART;TZID=UTC:20280222T080000
DTEND;TZID=UTC:20280222T170000
DTSTAMP:20260425T134704
CREATED:20260425T014218Z
LAST-MODIFIED:20260425T042440Z
UID:10001151-1834819200-1834851600@houseofgospel.com
SUMMARY:Chop It Up" Men's Bible Study 7pm (Fontana) and Women's Bible Study 7pm (Eastvale)
DESCRIPTION:
URL:https://houseofgospel.com/event/chop-it-up-mens-bible-study-7pm-fontana-womens-bible-study-7pm-eastvale/2028-02-22/
END:VEVENT
BEGIN:VEVENT
DTSTART;TZID=UTC:20280229T080000
DTEND;TZID=UTC:20280229T170000
DTSTAMP:20260425T134704
CREATED:20260425T014218Z
LAST-MODIFIED:20260425T042440Z
UID:10001152-1835424000-1835456400@houseofgospel.com
SUMMARY:Chop It Up" Men's Bible Study 7pm (Fontana) and Women's Bible Study 7pm (Eastvale)
DESCRIPTION:
URL:https://houseofgospel.com/event/chop-it-up-mens-bible-study-7pm-fontana-womens-bible-study-7pm-eastvale/2028-02-29/
END:VEVENT
BEGIN:VEVENT
DTSTART;TZID=UTC:20280307T080000
DTEND;TZID=UTC:20280307T170000
DTSTAMP:20260425T134704
CREATED:20260425T014218Z
LAST-MODIFIED:20260425T042440Z
UID:10001153-1836028800-1836061200@houseofgospel.com
SUMMARY:Chop It Up" Men's Bible Study 7pm (Fontana) and Women's Bible Study 7pm (Eastvale)
DESCRIPTION:
URL:https://houseofgospel.com/event/chop-it-up-mens-bible-study-7pm-fontana-womens-bible-study-7pm-eastvale/2028-03-07/
END:VEVENT
BEGIN:VEVENT
DTSTART;TZID=UTC:20280314T080000
DTEND;TZID=UTC:20280314T170000
DTSTAMP:20260425T134704
CREATED:20260425T014218Z
LAST-MODIFIED:20260425T042440Z
UID:10001154-1836633600-1836666000@houseofgospel.com
SUMMARY:Chop It Up" Men's Bible Study 7pm (Fontana) and Women's Bible Study 7pm (Eastvale)
DESCRIPTION:
URL:https://houseofgospel.com/event/chop-it-up-mens-bible-study-7pm-fontana-womens-bible-study-7pm-eastvale/2028-03-14/
END:VEVENT
BEGIN:VEVENT
DTSTART;TZID=UTC:20280321T080000
DTEND;TZID=UTC:20280321T170000
DTSTAMP:20260425T134704
CREATED:20260425T014218Z
LAST-MODIFIED:20260425T042440Z
UID:10001155-1837238400-1837270800@houseofgospel.com
SUMMARY:Chop It Up" Men's Bible Study 7pm (Fontana) and Women's Bible Study 7pm (Eastvale)
DESCRIPTION:
URL:https://houseofgospel.com/event/chop-it-up-mens-bible-study-7pm-fontana-womens-bible-study-7pm-eastvale/2028-03-21/
END:VEVENT
BEGIN:VEVENT
DTSTART;TZID=UTC:20280328T080000
DTEND;TZID=UTC:20280328T170000
DTSTAMP:20260425T134704
CREATED:20260425T014218Z
LAST-MODIFIED:20260425T042440Z
UID:10001156-1837843200-1837875600@houseofgospel.com
SUMMARY:Chop It Up" Men's Bible Study 7pm (Fontana) and Women's Bible Study 7pm (Eastvale)
DESCRIPTION:
URL:https://houseofgospel.com/event/chop-it-up-mens-bible-study-7pm-fontana-womens-bible-study-7pm-eastvale/2028-03-28/
END:VEVENT
BEGIN:VEVENT
DTSTART;TZID=UTC:20280404T080000
DTEND;TZID=UTC:20280404T170000
DTSTAMP:20260425T134704
CREATED:20260425T014218Z
LAST-MODIFIED:20260425T042440Z
UID:10001157-1838448000-1838480400@houseofgospel.com
SUMMARY:Chop It Up" Men's Bible Study 7pm (Fontana) and Women's Bible Study 7pm (Eastvale)
DESCRIPTION:
URL:https://houseofgospel.com/event/chop-it-up-mens-bible-study-7pm-fontana-womens-bible-study-7pm-eastvale/2028-04-04/
END:VEVENT
BEGIN:VEVENT
DTSTART;TZID=UTC:20280411T080000
DTEND;TZID=UTC:20280411T170000
DTSTAMP:20260425T134704
CREATED:20260425T014218Z
LAST-MODIFIED:20260425T042440Z
UID:10001158-1839052800-1839085200@houseofgospel.com
SUMMARY:Chop It Up" Men's Bible Study 7pm (Fontana) and Women's Bible Study 7pm (Eastvale)
DESCRIPTION:
URL:https://houseofgospel.com/event/chop-it-up-mens-bible-study-7pm-fontana-womens-bible-study-7pm-eastvale/2028-04-11/
END:VEVENT
BEGIN:VEVENT
DTSTART;TZID=UTC:20280418T080000
DTEND;TZID=UTC:20280418T170000
DTSTAMP:20260425T134704
CREATED:20260425T014218Z
LAST-MODIFIED:20260425T042440Z
UID:10001159-1839657600-1839690000@houseofgospel.com
SUMMARY:Chop It Up" Men's Bible Study 7pm (Fontana) and Women's Bible Study 7pm (Eastvale)
DESCRIPTION:
URL:https://houseofgospel.com/event/chop-it-up-mens-bible-study-7pm-fontana-womens-bible-study-7pm-eastvale/2028-04-18/
END:VEVENT
BEGIN:VEVENT
DTSTART;TZID=UTC:20280425T080000
DTEND;TZID=UTC:20280425T170000
DTSTAMP:20260425T134704
CREATED:20260425T014218Z
LAST-MODIFIED:20260425T042440Z
UID:10001160-1840262400-1840294800@houseofgospel.com
SUMMARY:Chop It Up" Men's Bible Study 7pm (Fontana) and Women's Bible Study 7pm (Eastvale)
DESCRIPTION:
URL:https://houseofgospel.com/event/chop-it-up-mens-bible-study-7pm-fontana-womens-bible-study-7pm-eastvale/2028-04-25/
END:VEVENT
BEGIN:VEVENT
DTSTART;TZID=UTC:20280502T080000
DTEND;TZID=UTC:20280502T170000
DTSTAMP:20260425T134704
CREATED:20260425T014218Z
LAST-MODIFIED:20260425T042440Z
UID:10001161-1840867200-1840899600@houseofgospel.com
SUMMARY:Chop It Up" Men's Bible Study 7pm (Fontana) and Women's Bible Study 7pm (Eastvale)
DESCRIPTION:
URL:https://houseofgospel.com/event/chop-it-up-mens-bible-study-7pm-fontana-womens-bible-study-7pm-eastvale/2028-05-02/
END:VEVENT
BEGIN:VEVENT
DTSTART;TZID=UTC:20280509T080000
DTEND;TZID=UTC:20280509T170000
DTSTAMP:20260425T134704
CREATED:20260425T014218Z
LAST-MODIFIED:20260425T042440Z
UID:10001162-1841472000-1841504400@houseofgospel.com
SUMMARY:Chop It Up" Men's Bible Study 7pm (Fontana) and Women's Bible Study 7pm (Eastvale)
DESCRIPTION:
URL:https://houseofgospel.com/event/chop-it-up-mens-bible-study-7pm-fontana-womens-bible-study-7pm-eastvale/2028-05-09/
END:VEVENT
BEGIN:VEVENT
DTSTART;TZID=UTC:20280516T080000
DTEND;TZID=UTC:20280516T170000
DTSTAMP:20260425T134704
CREATED:20260425T014218Z
LAST-MODIFIED:20260425T042440Z
UID:10001163-1842076800-1842109200@houseofgospel.com
SUMMARY:Chop It Up" Men's Bible Study 7pm (Fontana) and Women's Bible Study 7pm (Eastvale)
DESCRIPTION:
URL:https://houseofgospel.com/event/chop-it-up-mens-bible-study-7pm-fontana-womens-bible-study-7pm-eastvale/2028-05-16/
END:VEVENT
BEGIN:VEVENT
DTSTART;TZID=UTC:20280523T080000
DTEND;TZID=UTC:20280523T170000
DTSTAMP:20260425T134704
CREATED:20260425T014218Z
LAST-MODIFIED:20260425T042440Z
UID:10001164-1842681600-1842714000@houseofgospel.com
SUMMARY:Chop It Up" Men's Bible Study 7pm (Fontana) and Women's Bible Study 7pm (Eastvale)
DESCRIPTION:
URL:https://houseofgospel.com/event/chop-it-up-mens-bible-study-7pm-fontana-womens-bible-study-7pm-eastvale/2028-05-23/
END:VEVENT
BEGIN:VEVENT
DTSTART;TZID=UTC:20280530T080000
DTEND;TZID=UTC:20280530T170000
DTSTAMP:20260425T134704
CREATED:20260425T014218Z
LAST-MODIFIED:20260425T042440Z
UID:10001165-1843286400-1843318800@houseofgospel.com
SUMMARY:Chop It Up" Men's Bible Study 7pm (Fontana) and Women's Bible Study 7pm (Eastvale)
DESCRIPTION:
URL:https://houseofgospel.com/event/chop-it-up-mens-bible-study-7pm-fontana-womens-bible-study-7pm-eastvale/2028-05-30/
END:VEVENT
END:VCALENDAR