BEGIN:VCALENDAR
VERSION:2.0
PRODID:-//houseofgospel.com - ECPv6.9.1//NONSGML v1.0//EN
CALSCALE:GREGORIAN
METHOD:PUBLISH
X-WR-CALNAME:houseofgospel.com
X-ORIGINAL-URL:https://houseofgospel.com
X-WR-CALDESC:Events for houseofgospel.com
REFRESH-INTERVAL;VALUE=DURATION:PT1H
X-Robots-Tag:noindex
X-PUBLISHED-TTL:PT1H
BEGIN:VTIMEZONE
TZID:UTC
BEGIN:STANDARD
TZOFFSETFROM:+0000
TZOFFSETTO:+0000
TZNAME:UTC
DTSTART:20280101T000000
END:STANDARD
END:VTIMEZONE
BEGIN:VEVENT
DTSTART;TZID=UTC:20280620T080000
DTEND;TZID=UTC:20280620T170000
DTSTAMP:20260425T152636
CREATED:20260425T014218Z
LAST-MODIFIED:20260425T042440Z
UID:10001168-1845100800-1845133200@houseofgospel.com
SUMMARY:Chop It Up" Men's Bible Study 7pm (Fontana) and Women's Bible Study 7pm (Eastvale)
DESCRIPTION:
URL:https://houseofgospel.com/event/chop-it-up-mens-bible-study-7pm-fontana-womens-bible-study-7pm-eastvale/2028-06-20/
END:VEVENT
BEGIN:VEVENT
DTSTART;TZID=UTC:20280627T080000
DTEND;TZID=UTC:20280627T170000
DTSTAMP:20260425T152636
CREATED:20260425T014218Z
LAST-MODIFIED:20260425T042440Z
UID:10001169-1845705600-1845738000@houseofgospel.com
SUMMARY:Chop It Up" Men's Bible Study 7pm (Fontana) and Women's Bible Study 7pm (Eastvale)
DESCRIPTION:
URL:https://houseofgospel.com/event/chop-it-up-mens-bible-study-7pm-fontana-womens-bible-study-7pm-eastvale/2028-06-27/
END:VEVENT
BEGIN:VEVENT
DTSTART;TZID=UTC:20280704T080000
DTEND;TZID=UTC:20280704T170000
DTSTAMP:20260425T152636
CREATED:20260425T014218Z
LAST-MODIFIED:20260425T042440Z
UID:10001170-1846310400-1846342800@houseofgospel.com
SUMMARY:Chop It Up" Men's Bible Study 7pm (Fontana) and Women's Bible Study 7pm (Eastvale)
DESCRIPTION:
URL:https://houseofgospel.com/event/chop-it-up-mens-bible-study-7pm-fontana-womens-bible-study-7pm-eastvale/2028-07-04/
END:VEVENT
BEGIN:VEVENT
DTSTART;TZID=UTC:20280711T080000
DTEND;TZID=UTC:20280711T170000
DTSTAMP:20260425T152636
CREATED:20260425T014218Z
LAST-MODIFIED:20260425T042440Z
UID:10001171-1846915200-1846947600@houseofgospel.com
SUMMARY:Chop It Up" Men's Bible Study 7pm (Fontana) and Women's Bible Study 7pm (Eastvale)
DESCRIPTION:
URL:https://houseofgospel.com/event/chop-it-up-mens-bible-study-7pm-fontana-womens-bible-study-7pm-eastvale/2028-07-11/
END:VEVENT
BEGIN:VEVENT
DTSTART;TZID=UTC:20280718T080000
DTEND;TZID=UTC:20280718T170000
DTSTAMP:20260425T152636
CREATED:20260425T014218Z
LAST-MODIFIED:20260425T042440Z
UID:10001172-1847520000-1847552400@houseofgospel.com
SUMMARY:Chop It Up" Men's Bible Study 7pm (Fontana) and Women's Bible Study 7pm (Eastvale)
DESCRIPTION:
URL:https://houseofgospel.com/event/chop-it-up-mens-bible-study-7pm-fontana-womens-bible-study-7pm-eastvale/2028-07-18/
END:VEVENT
BEGIN:VEVENT
DTSTART;TZID=UTC:20280725T080000
DTEND;TZID=UTC:20280725T170000
DTSTAMP:20260425T152636
CREATED:20260425T014218Z
LAST-MODIFIED:20260425T042440Z
UID:10001173-1848124800-1848157200@houseofgospel.com
SUMMARY:Chop It Up" Men's Bible Study 7pm (Fontana) and Women's Bible Study 7pm (Eastvale)
DESCRIPTION:
URL:https://houseofgospel.com/event/chop-it-up-mens-bible-study-7pm-fontana-womens-bible-study-7pm-eastvale/2028-07-25/
END:VEVENT
BEGIN:VEVENT
DTSTART;TZID=UTC:20280801T080000
DTEND;TZID=UTC:20280801T170000
DTSTAMP:20260425T152636
CREATED:20260425T014218Z
LAST-MODIFIED:20260425T042440Z
UID:10001174-1848729600-1848762000@houseofgospel.com
SUMMARY:Chop It Up" Men's Bible Study 7pm (Fontana) and Women's Bible Study 7pm (Eastvale)
DESCRIPTION:
URL:https://houseofgospel.com/event/chop-it-up-mens-bible-study-7pm-fontana-womens-bible-study-7pm-eastvale/2028-08-01/
END:VEVENT
BEGIN:VEVENT
DTSTART;TZID=UTC:20280808T080000
DTEND;TZID=UTC:20280808T170000
DTSTAMP:20260425T152636
CREATED:20260425T014218Z
LAST-MODIFIED:20260425T042440Z
UID:10001175-1849334400-1849366800@houseofgospel.com
SUMMARY:Chop It Up" Men's Bible Study 7pm (Fontana) and Women's Bible Study 7pm (Eastvale)
DESCRIPTION:
URL:https://houseofgospel.com/event/chop-it-up-mens-bible-study-7pm-fontana-womens-bible-study-7pm-eastvale/2028-08-08/
END:VEVENT
BEGIN:VEVENT
DTSTART;TZID=UTC:20280815T080000
DTEND;TZID=UTC:20280815T170000
DTSTAMP:20260425T152636
CREATED:20260425T014218Z
LAST-MODIFIED:20260425T042440Z
UID:10001176-1849939200-1849971600@houseofgospel.com
SUMMARY:Chop It Up" Men's Bible Study 7pm (Fontana) and Women's Bible Study 7pm (Eastvale)
DESCRIPTION:
URL:https://houseofgospel.com/event/chop-it-up-mens-bible-study-7pm-fontana-womens-bible-study-7pm-eastvale/2028-08-15/
END:VEVENT
BEGIN:VEVENT
DTSTART;TZID=UTC:20280822T080000
DTEND;TZID=UTC:20280822T170000
DTSTAMP:20260425T152636
CREATED:20260425T014218Z
LAST-MODIFIED:20260425T042440Z
UID:10001177-1850544000-1850576400@houseofgospel.com
SUMMARY:Chop It Up" Men's Bible Study 7pm (Fontana) and Women's Bible Study 7pm (Eastvale)
DESCRIPTION:
URL:https://houseofgospel.com/event/chop-it-up-mens-bible-study-7pm-fontana-womens-bible-study-7pm-eastvale/2028-08-22/
END:VEVENT
BEGIN:VEVENT
DTSTART;TZID=UTC:20280829T080000
DTEND;TZID=UTC:20280829T170000
DTSTAMP:20260425T152636
CREATED:20260425T014218Z
LAST-MODIFIED:20260425T042440Z
UID:10001178-1851148800-1851181200@houseofgospel.com
SUMMARY:Chop It Up" Men's Bible Study 7pm (Fontana) and Women's Bible Study 7pm (Eastvale)
DESCRIPTION:
URL:https://houseofgospel.com/event/chop-it-up-mens-bible-study-7pm-fontana-womens-bible-study-7pm-eastvale/2028-08-29/
END:VEVENT
BEGIN:VEVENT
DTSTART;TZID=UTC:20280905T080000
DTEND;TZID=UTC:20280905T170000
DTSTAMP:20260425T152636
CREATED:20260425T014218Z
LAST-MODIFIED:20260425T042440Z
UID:10001179-1851753600-1851786000@houseofgospel.com
SUMMARY:Chop It Up" Men's Bible Study 7pm (Fontana) and Women's Bible Study 7pm (Eastvale)
DESCRIPTION:
URL:https://houseofgospel.com/event/chop-it-up-mens-bible-study-7pm-fontana-womens-bible-study-7pm-eastvale/2028-09-05/
END:VEVENT
BEGIN:VEVENT
DTSTART;TZID=UTC:20280912T080000
DTEND;TZID=UTC:20280912T170000
DTSTAMP:20260425T152636
CREATED:20260425T014218Z
LAST-MODIFIED:20260425T042440Z
UID:10001180-1852358400-1852390800@houseofgospel.com
SUMMARY:Chop It Up" Men's Bible Study 7pm (Fontana) and Women's Bible Study 7pm (Eastvale)
DESCRIPTION:
URL:https://houseofgospel.com/event/chop-it-up-mens-bible-study-7pm-fontana-womens-bible-study-7pm-eastvale/2028-09-12/
END:VEVENT
BEGIN:VEVENT
DTSTART;TZID=UTC:20280919T080000
DTEND;TZID=UTC:20280919T170000
DTSTAMP:20260425T152636
CREATED:20260425T014218Z
LAST-MODIFIED:20260425T042440Z
UID:10001181-1852963200-1852995600@houseofgospel.com
SUMMARY:Chop It Up" Men's Bible Study 7pm (Fontana) and Women's Bible Study 7pm (Eastvale)
DESCRIPTION:
URL:https://houseofgospel.com/event/chop-it-up-mens-bible-study-7pm-fontana-womens-bible-study-7pm-eastvale/2028-09-19/
END:VEVENT
BEGIN:VEVENT
DTSTART;TZID=UTC:20280926T080000
DTEND;TZID=UTC:20280926T170000
DTSTAMP:20260425T152636
CREATED:20260425T014218Z
LAST-MODIFIED:20260425T042440Z
UID:10001182-1853568000-1853600400@houseofgospel.com
SUMMARY:Chop It Up" Men's Bible Study 7pm (Fontana) and Women's Bible Study 7pm (Eastvale)
DESCRIPTION:
URL:https://houseofgospel.com/event/chop-it-up-mens-bible-study-7pm-fontana-womens-bible-study-7pm-eastvale/2028-09-26/
END:VEVENT
BEGIN:VEVENT
DTSTART;TZID=UTC:20281003T080000
DTEND;TZID=UTC:20281003T170000
DTSTAMP:20260425T152636
CREATED:20260425T014218Z
LAST-MODIFIED:20260425T042440Z
UID:10001183-1854172800-1854205200@houseofgospel.com
SUMMARY:Chop It Up" Men's Bible Study 7pm (Fontana) and Women's Bible Study 7pm (Eastvale)
DESCRIPTION:
URL:https://houseofgospel.com/event/chop-it-up-mens-bible-study-7pm-fontana-womens-bible-study-7pm-eastvale/2028-10-03/
END:VEVENT
BEGIN:VEVENT
DTSTART;TZID=UTC:20281010T080000
DTEND;TZID=UTC:20281010T170000
DTSTAMP:20260425T152636
CREATED:20260425T014218Z
LAST-MODIFIED:20260425T042440Z
UID:10001184-1854777600-1854810000@houseofgospel.com
SUMMARY:Chop It Up" Men's Bible Study 7pm (Fontana) and Women's Bible Study 7pm (Eastvale)
DESCRIPTION:
URL:https://houseofgospel.com/event/chop-it-up-mens-bible-study-7pm-fontana-womens-bible-study-7pm-eastvale/2028-10-10/
END:VEVENT
BEGIN:VEVENT
DTSTART;TZID=UTC:20281017T080000
DTEND;TZID=UTC:20281017T170000
DTSTAMP:20260425T152636
CREATED:20260425T014218Z
LAST-MODIFIED:20260425T042440Z
UID:10001185-1855382400-1855414800@houseofgospel.com
SUMMARY:Chop It Up" Men's Bible Study 7pm (Fontana) and Women's Bible Study 7pm (Eastvale)
DESCRIPTION:
URL:https://houseofgospel.com/event/chop-it-up-mens-bible-study-7pm-fontana-womens-bible-study-7pm-eastvale/2028-10-17/
END:VEVENT
BEGIN:VEVENT
DTSTART;TZID=UTC:20281024T080000
DTEND;TZID=UTC:20281024T170000
DTSTAMP:20260425T152636
CREATED:20260425T014218Z
LAST-MODIFIED:20260425T042440Z
UID:10001186-1855987200-1856019600@houseofgospel.com
SUMMARY:Chop It Up" Men's Bible Study 7pm (Fontana) and Women's Bible Study 7pm (Eastvale)
DESCRIPTION:
URL:https://houseofgospel.com/event/chop-it-up-mens-bible-study-7pm-fontana-womens-bible-study-7pm-eastvale/2028-10-24/
END:VEVENT
BEGIN:VEVENT
DTSTART;TZID=UTC:20281031T080000
DTEND;TZID=UTC:20281031T170000
DTSTAMP:20260425T152636
CREATED:20260425T014218Z
LAST-MODIFIED:20260425T042440Z
UID:10001187-1856592000-1856624400@houseofgospel.com
SUMMARY:Chop It Up" Men's Bible Study 7pm (Fontana) and Women's Bible Study 7pm (Eastvale)
DESCRIPTION:
URL:https://houseofgospel.com/event/chop-it-up-mens-bible-study-7pm-fontana-womens-bible-study-7pm-eastvale/2028-10-31/
END:VEVENT
BEGIN:VEVENT
DTSTART;TZID=UTC:20281107T080000
DTEND;TZID=UTC:20281107T170000
DTSTAMP:20260425T152636
CREATED:20260425T014218Z
LAST-MODIFIED:20260425T042440Z
UID:10001188-1857196800-1857229200@houseofgospel.com
SUMMARY:Chop It Up" Men's Bible Study 7pm (Fontana) and Women's Bible Study 7pm (Eastvale)
DESCRIPTION:
URL:https://houseofgospel.com/event/chop-it-up-mens-bible-study-7pm-fontana-womens-bible-study-7pm-eastvale/2028-11-07/
END:VEVENT
BEGIN:VEVENT
DTSTART;TZID=UTC:20281114T080000
DTEND;TZID=UTC:20281114T170000
DTSTAMP:20260425T152636
CREATED:20260425T014218Z
LAST-MODIFIED:20260425T042440Z
UID:10001189-1857801600-1857834000@houseofgospel.com
SUMMARY:Chop It Up" Men's Bible Study 7pm (Fontana) and Women's Bible Study 7pm (Eastvale)
DESCRIPTION:
URL:https://houseofgospel.com/event/chop-it-up-mens-bible-study-7pm-fontana-womens-bible-study-7pm-eastvale/2028-11-14/
END:VEVENT
BEGIN:VEVENT
DTSTART;TZID=UTC:20281121T080000
DTEND;TZID=UTC:20281121T170000
DTSTAMP:20260425T152636
CREATED:20260425T014218Z
LAST-MODIFIED:20260425T042440Z
UID:10001190-1858406400-1858438800@houseofgospel.com
SUMMARY:Chop It Up" Men's Bible Study 7pm (Fontana) and Women's Bible Study 7pm (Eastvale)
DESCRIPTION:
URL:https://houseofgospel.com/event/chop-it-up-mens-bible-study-7pm-fontana-womens-bible-study-7pm-eastvale/2028-11-21/
END:VEVENT
BEGIN:VEVENT
DTSTART;TZID=UTC:20281128T080000
DTEND;TZID=UTC:20281128T170000
DTSTAMP:20260425T152636
CREATED:20260425T014218Z
LAST-MODIFIED:20260425T042440Z
UID:10001191-1859011200-1859043600@houseofgospel.com
SUMMARY:Chop It Up" Men's Bible Study 7pm (Fontana) and Women's Bible Study 7pm (Eastvale)
DESCRIPTION:
URL:https://houseofgospel.com/event/chop-it-up-mens-bible-study-7pm-fontana-womens-bible-study-7pm-eastvale/2028-11-28/
END:VEVENT
BEGIN:VEVENT
DTSTART;TZID=UTC:20281205T080000
DTEND;TZID=UTC:20281205T170000
DTSTAMP:20260425T152636
CREATED:20260425T014218Z
LAST-MODIFIED:20260425T042440Z
UID:10001192-1859616000-1859648400@houseofgospel.com
SUMMARY:Chop It Up" Men's Bible Study 7pm (Fontana) and Women's Bible Study 7pm (Eastvale)
DESCRIPTION:
URL:https://houseofgospel.com/event/chop-it-up-mens-bible-study-7pm-fontana-womens-bible-study-7pm-eastvale/2028-12-05/
END:VEVENT
BEGIN:VEVENT
DTSTART;TZID=UTC:20281212T080000
DTEND;TZID=UTC:20281212T170000
DTSTAMP:20260425T152636
CREATED:20260425T014218Z
LAST-MODIFIED:20260425T042440Z
UID:10001193-1860220800-1860253200@houseofgospel.com
SUMMARY:Chop It Up" Men's Bible Study 7pm (Fontana) and Women's Bible Study 7pm (Eastvale)
DESCRIPTION:
URL:https://houseofgospel.com/event/chop-it-up-mens-bible-study-7pm-fontana-womens-bible-study-7pm-eastvale/2028-12-12/
END:VEVENT
BEGIN:VEVENT
DTSTART;TZID=UTC:20281219T080000
DTEND;TZID=UTC:20281219T170000
DTSTAMP:20260425T152636
CREATED:20260425T014218Z
LAST-MODIFIED:20260425T042440Z
UID:10001194-1860825600-1860858000@houseofgospel.com
SUMMARY:Chop It Up" Men's Bible Study 7pm (Fontana) and Women's Bible Study 7pm (Eastvale)
DESCRIPTION:
URL:https://houseofgospel.com/event/chop-it-up-mens-bible-study-7pm-fontana-womens-bible-study-7pm-eastvale/2028-12-19/
END:VEVENT
BEGIN:VEVENT
DTSTART;TZID=UTC:20281226T080000
DTEND;TZID=UTC:20281226T170000
DTSTAMP:20260425T152636
CREATED:20260425T014218Z
LAST-MODIFIED:20260425T042440Z
UID:10001195-1861430400-1861462800@houseofgospel.com
SUMMARY:Chop It Up" Men's Bible Study 7pm (Fontana) and Women's Bible Study 7pm (Eastvale)
DESCRIPTION:
URL:https://houseofgospel.com/event/chop-it-up-mens-bible-study-7pm-fontana-womens-bible-study-7pm-eastvale/2028-12-26/
END:VEVENT
BEGIN:VEVENT
DTSTART;TZID=UTC:20290102T080000
DTEND;TZID=UTC:20290102T170000
DTSTAMP:20260425T152636
CREATED:20260425T014218Z
LAST-MODIFIED:20260425T042440Z
UID:10001196-1862035200-1862067600@houseofgospel.com
SUMMARY:Chop It Up" Men's Bible Study 7pm (Fontana) and Women's Bible Study 7pm (Eastvale)
DESCRIPTION:
URL:https://houseofgospel.com/event/chop-it-up-mens-bible-study-7pm-fontana-womens-bible-study-7pm-eastvale/2029-01-02/
END:VEVENT
BEGIN:VEVENT
DTSTART;TZID=UTC:20290109T080000
DTEND;TZID=UTC:20290109T170000
DTSTAMP:20260425T152636
CREATED:20260425T014218Z
LAST-MODIFIED:20260425T042440Z
UID:10001197-1862640000-1862672400@houseofgospel.com
SUMMARY:Chop It Up" Men's Bible Study 7pm (Fontana) and Women's Bible Study 7pm (Eastvale)
DESCRIPTION:
URL:https://houseofgospel.com/event/chop-it-up-mens-bible-study-7pm-fontana-womens-bible-study-7pm-eastvale/2029-01-09/
END:VEVENT
END:VCALENDAR