BEGIN:VCALENDAR
VERSION:2.0
PRODID:-//houseofgospel.com - ECPv6.9.1//NONSGML v1.0//EN
CALSCALE:GREGORIAN
METHOD:PUBLISH
X-WR-CALNAME:houseofgospel.com
X-ORIGINAL-URL:https://houseofgospel.com
X-WR-CALDESC:Events for houseofgospel.com
REFRESH-INTERVAL;VALUE=DURATION:PT1H
X-Robots-Tag:noindex
X-PUBLISHED-TTL:PT1H
BEGIN:VTIMEZONE
TZID:UTC
BEGIN:STANDARD
TZOFFSETFROM:+0000
TZOFFSETTO:+0000
TZNAME:UTC
DTSTART:20280101T000000
END:STANDARD
END:VTIMEZONE
BEGIN:VEVENT
DTSTART;TZID=UTC:20281128T080000
DTEND;TZID=UTC:20281128T170000
DTSTAMP:20260425T152535
CREATED:20260425T014218Z
LAST-MODIFIED:20260425T042440Z
UID:10001191-1859011200-1859043600@houseofgospel.com
SUMMARY:Chop It Up" Men's Bible Study 7pm (Fontana) and Women's Bible Study 7pm (Eastvale)
DESCRIPTION:
URL:https://houseofgospel.com/event/chop-it-up-mens-bible-study-7pm-fontana-womens-bible-study-7pm-eastvale/2028-11-28/
END:VEVENT
BEGIN:VEVENT
DTSTART;TZID=UTC:20281205T080000
DTEND;TZID=UTC:20281205T170000
DTSTAMP:20260425T152535
CREATED:20260425T014218Z
LAST-MODIFIED:20260425T042440Z
UID:10001192-1859616000-1859648400@houseofgospel.com
SUMMARY:Chop It Up" Men's Bible Study 7pm (Fontana) and Women's Bible Study 7pm (Eastvale)
DESCRIPTION:
URL:https://houseofgospel.com/event/chop-it-up-mens-bible-study-7pm-fontana-womens-bible-study-7pm-eastvale/2028-12-05/
END:VEVENT
BEGIN:VEVENT
DTSTART;TZID=UTC:20281212T080000
DTEND;TZID=UTC:20281212T170000
DTSTAMP:20260425T152535
CREATED:20260425T014218Z
LAST-MODIFIED:20260425T042440Z
UID:10001193-1860220800-1860253200@houseofgospel.com
SUMMARY:Chop It Up" Men's Bible Study 7pm (Fontana) and Women's Bible Study 7pm (Eastvale)
DESCRIPTION:
URL:https://houseofgospel.com/event/chop-it-up-mens-bible-study-7pm-fontana-womens-bible-study-7pm-eastvale/2028-12-12/
END:VEVENT
BEGIN:VEVENT
DTSTART;TZID=UTC:20281219T080000
DTEND;TZID=UTC:20281219T170000
DTSTAMP:20260425T152535
CREATED:20260425T014218Z
LAST-MODIFIED:20260425T042440Z
UID:10001194-1860825600-1860858000@houseofgospel.com
SUMMARY:Chop It Up" Men's Bible Study 7pm (Fontana) and Women's Bible Study 7pm (Eastvale)
DESCRIPTION:
URL:https://houseofgospel.com/event/chop-it-up-mens-bible-study-7pm-fontana-womens-bible-study-7pm-eastvale/2028-12-19/
END:VEVENT
BEGIN:VEVENT
DTSTART;TZID=UTC:20281226T080000
DTEND;TZID=UTC:20281226T170000
DTSTAMP:20260425T152535
CREATED:20260425T014218Z
LAST-MODIFIED:20260425T042440Z
UID:10001195-1861430400-1861462800@houseofgospel.com
SUMMARY:Chop It Up" Men's Bible Study 7pm (Fontana) and Women's Bible Study 7pm (Eastvale)
DESCRIPTION:
URL:https://houseofgospel.com/event/chop-it-up-mens-bible-study-7pm-fontana-womens-bible-study-7pm-eastvale/2028-12-26/
END:VEVENT
BEGIN:VEVENT
DTSTART;TZID=UTC:20290102T080000
DTEND;TZID=UTC:20290102T170000
DTSTAMP:20260425T152535
CREATED:20260425T014218Z
LAST-MODIFIED:20260425T042440Z
UID:10001196-1862035200-1862067600@houseofgospel.com
SUMMARY:Chop It Up" Men's Bible Study 7pm (Fontana) and Women's Bible Study 7pm (Eastvale)
DESCRIPTION:
URL:https://houseofgospel.com/event/chop-it-up-mens-bible-study-7pm-fontana-womens-bible-study-7pm-eastvale/2029-01-02/
END:VEVENT
BEGIN:VEVENT
DTSTART;TZID=UTC:20290109T080000
DTEND;TZID=UTC:20290109T170000
DTSTAMP:20260425T152535
CREATED:20260425T014218Z
LAST-MODIFIED:20260425T042440Z
UID:10001197-1862640000-1862672400@houseofgospel.com
SUMMARY:Chop It Up" Men's Bible Study 7pm (Fontana) and Women's Bible Study 7pm (Eastvale)
DESCRIPTION:
URL:https://houseofgospel.com/event/chop-it-up-mens-bible-study-7pm-fontana-womens-bible-study-7pm-eastvale/2029-01-09/
END:VEVENT
BEGIN:VEVENT
DTSTART;TZID=UTC:20290116T080000
DTEND;TZID=UTC:20290116T170000
DTSTAMP:20260425T152535
CREATED:20260425T014218Z
LAST-MODIFIED:20260425T042440Z
UID:10001198-1863244800-1863277200@houseofgospel.com
SUMMARY:Chop It Up" Men's Bible Study 7pm (Fontana) and Women's Bible Study 7pm (Eastvale)
DESCRIPTION:
URL:https://houseofgospel.com/event/chop-it-up-mens-bible-study-7pm-fontana-womens-bible-study-7pm-eastvale/2029-01-16/
END:VEVENT
BEGIN:VEVENT
DTSTART;TZID=UTC:20290123T080000
DTEND;TZID=UTC:20290123T170000
DTSTAMP:20260425T152535
CREATED:20260425T014218Z
LAST-MODIFIED:20260425T042440Z
UID:10001199-1863849600-1863882000@houseofgospel.com
SUMMARY:Chop It Up" Men's Bible Study 7pm (Fontana) and Women's Bible Study 7pm (Eastvale)
DESCRIPTION:
URL:https://houseofgospel.com/event/chop-it-up-mens-bible-study-7pm-fontana-womens-bible-study-7pm-eastvale/2029-01-23/
END:VEVENT
BEGIN:VEVENT
DTSTART;TZID=UTC:20290130T080000
DTEND;TZID=UTC:20290130T170000
DTSTAMP:20260425T152535
CREATED:20260425T014218Z
LAST-MODIFIED:20260425T042440Z
UID:10001200-1864454400-1864486800@houseofgospel.com
SUMMARY:Chop It Up" Men's Bible Study 7pm (Fontana) and Women's Bible Study 7pm (Eastvale)
DESCRIPTION:
URL:https://houseofgospel.com/event/chop-it-up-mens-bible-study-7pm-fontana-womens-bible-study-7pm-eastvale/2029-01-30/
END:VEVENT
BEGIN:VEVENT
DTSTART;TZID=UTC:20290206T080000
DTEND;TZID=UTC:20290206T170000
DTSTAMP:20260425T152535
CREATED:20260425T014218Z
LAST-MODIFIED:20260425T042440Z
UID:10001201-1865059200-1865091600@houseofgospel.com
SUMMARY:Chop It Up" Men's Bible Study 7pm (Fontana) and Women's Bible Study 7pm (Eastvale)
DESCRIPTION:
URL:https://houseofgospel.com/event/chop-it-up-mens-bible-study-7pm-fontana-womens-bible-study-7pm-eastvale/2029-02-06/
END:VEVENT
BEGIN:VEVENT
DTSTART;TZID=UTC:20290213T080000
DTEND;TZID=UTC:20290213T170000
DTSTAMP:20260425T152535
CREATED:20260425T014218Z
LAST-MODIFIED:20260425T042440Z
UID:10001202-1865664000-1865696400@houseofgospel.com
SUMMARY:Chop It Up" Men's Bible Study 7pm (Fontana) and Women's Bible Study 7pm (Eastvale)
DESCRIPTION:
URL:https://houseofgospel.com/event/chop-it-up-mens-bible-study-7pm-fontana-womens-bible-study-7pm-eastvale/2029-02-13/
END:VEVENT
BEGIN:VEVENT
DTSTART;TZID=UTC:20290220T080000
DTEND;TZID=UTC:20290220T170000
DTSTAMP:20260425T152535
CREATED:20260425T014218Z
LAST-MODIFIED:20260425T042440Z
UID:10001203-1866268800-1866301200@houseofgospel.com
SUMMARY:Chop It Up" Men's Bible Study 7pm (Fontana) and Women's Bible Study 7pm (Eastvale)
DESCRIPTION:
URL:https://houseofgospel.com/event/chop-it-up-mens-bible-study-7pm-fontana-womens-bible-study-7pm-eastvale/2029-02-20/
END:VEVENT
BEGIN:VEVENT
DTSTART;TZID=UTC:20290227T080000
DTEND;TZID=UTC:20290227T170000
DTSTAMP:20260425T152535
CREATED:20260425T014218Z
LAST-MODIFIED:20260425T042440Z
UID:10001204-1866873600-1866906000@houseofgospel.com
SUMMARY:Chop It Up" Men's Bible Study 7pm (Fontana) and Women's Bible Study 7pm (Eastvale)
DESCRIPTION:
URL:https://houseofgospel.com/event/chop-it-up-mens-bible-study-7pm-fontana-womens-bible-study-7pm-eastvale/2029-02-27/
END:VEVENT
BEGIN:VEVENT
DTSTART;TZID=UTC:20290306T080000
DTEND;TZID=UTC:20290306T170000
DTSTAMP:20260425T152535
CREATED:20260425T014218Z
LAST-MODIFIED:20260425T042440Z
UID:10001205-1867478400-1867510800@houseofgospel.com
SUMMARY:Chop It Up" Men's Bible Study 7pm (Fontana) and Women's Bible Study 7pm (Eastvale)
DESCRIPTION:
URL:https://houseofgospel.com/event/chop-it-up-mens-bible-study-7pm-fontana-womens-bible-study-7pm-eastvale/2029-03-06/
END:VEVENT
BEGIN:VEVENT
DTSTART;TZID=UTC:20290313T080000
DTEND;TZID=UTC:20290313T170000
DTSTAMP:20260425T152535
CREATED:20260425T014218Z
LAST-MODIFIED:20260425T042440Z
UID:10001206-1868083200-1868115600@houseofgospel.com
SUMMARY:Chop It Up" Men's Bible Study 7pm (Fontana) and Women's Bible Study 7pm (Eastvale)
DESCRIPTION:
URL:https://houseofgospel.com/event/chop-it-up-mens-bible-study-7pm-fontana-womens-bible-study-7pm-eastvale/2029-03-13/
END:VEVENT
BEGIN:VEVENT
DTSTART;TZID=UTC:20290320T080000
DTEND;TZID=UTC:20290320T170000
DTSTAMP:20260425T152535
CREATED:20260425T014218Z
LAST-MODIFIED:20260425T042440Z
UID:10001207-1868688000-1868720400@houseofgospel.com
SUMMARY:Chop It Up" Men's Bible Study 7pm (Fontana) and Women's Bible Study 7pm (Eastvale)
DESCRIPTION:
URL:https://houseofgospel.com/event/chop-it-up-mens-bible-study-7pm-fontana-womens-bible-study-7pm-eastvale/2029-03-20/
END:VEVENT
BEGIN:VEVENT
DTSTART;TZID=UTC:20290327T080000
DTEND;TZID=UTC:20290327T170000
DTSTAMP:20260425T152535
CREATED:20260425T014218Z
LAST-MODIFIED:20260425T042440Z
UID:10001208-1869292800-1869325200@houseofgospel.com
SUMMARY:Chop It Up" Men's Bible Study 7pm (Fontana) and Women's Bible Study 7pm (Eastvale)
DESCRIPTION:
URL:https://houseofgospel.com/event/chop-it-up-mens-bible-study-7pm-fontana-womens-bible-study-7pm-eastvale/2029-03-27/
END:VEVENT
BEGIN:VEVENT
DTSTART;TZID=UTC:20290403T080000
DTEND;TZID=UTC:20290403T170000
DTSTAMP:20260425T152535
CREATED:20260425T014218Z
LAST-MODIFIED:20260425T042440Z
UID:10001209-1869897600-1869930000@houseofgospel.com
SUMMARY:Chop It Up" Men's Bible Study 7pm (Fontana) and Women's Bible Study 7pm (Eastvale)
DESCRIPTION:
URL:https://houseofgospel.com/event/chop-it-up-mens-bible-study-7pm-fontana-womens-bible-study-7pm-eastvale/2029-04-03/
END:VEVENT
BEGIN:VEVENT
DTSTART;TZID=UTC:20290410T080000
DTEND;TZID=UTC:20290410T170000
DTSTAMP:20260425T152535
CREATED:20260425T014218Z
LAST-MODIFIED:20260425T042440Z
UID:10001210-1870502400-1870534800@houseofgospel.com
SUMMARY:Chop It Up" Men's Bible Study 7pm (Fontana) and Women's Bible Study 7pm (Eastvale)
DESCRIPTION:
URL:https://houseofgospel.com/event/chop-it-up-mens-bible-study-7pm-fontana-womens-bible-study-7pm-eastvale/2029-04-10/
END:VEVENT
BEGIN:VEVENT
DTSTART;TZID=UTC:20290417T080000
DTEND;TZID=UTC:20290417T170000
DTSTAMP:20260425T152535
CREATED:20260425T014218Z
LAST-MODIFIED:20260425T042440Z
UID:10001211-1871107200-1871139600@houseofgospel.com
SUMMARY:Chop It Up" Men's Bible Study 7pm (Fontana) and Women's Bible Study 7pm (Eastvale)
DESCRIPTION:
URL:https://houseofgospel.com/event/chop-it-up-mens-bible-study-7pm-fontana-womens-bible-study-7pm-eastvale/2029-04-17/
END:VEVENT
BEGIN:VEVENT
DTSTART;TZID=UTC:20290424T080000
DTEND;TZID=UTC:20290424T170000
DTSTAMP:20260425T152535
CREATED:20260425T014218Z
LAST-MODIFIED:20260425T042440Z
UID:10001212-1871712000-1871744400@houseofgospel.com
SUMMARY:Chop It Up" Men's Bible Study 7pm (Fontana) and Women's Bible Study 7pm (Eastvale)
DESCRIPTION:
URL:https://houseofgospel.com/event/chop-it-up-mens-bible-study-7pm-fontana-womens-bible-study-7pm-eastvale/2029-04-24/
END:VEVENT
BEGIN:VEVENT
DTSTART;TZID=UTC:20290501T080000
DTEND;TZID=UTC:20290501T170000
DTSTAMP:20260425T152535
CREATED:20260425T014218Z
LAST-MODIFIED:20260425T042440Z
UID:10001213-1872316800-1872349200@houseofgospel.com
SUMMARY:Chop It Up" Men's Bible Study 7pm (Fontana) and Women's Bible Study 7pm (Eastvale)
DESCRIPTION:
URL:https://houseofgospel.com/event/chop-it-up-mens-bible-study-7pm-fontana-womens-bible-study-7pm-eastvale/2029-05-01/
END:VEVENT
BEGIN:VEVENT
DTSTART;TZID=UTC:20290508T080000
DTEND;TZID=UTC:20290508T170000
DTSTAMP:20260425T152535
CREATED:20260425T014218Z
LAST-MODIFIED:20260425T042440Z
UID:10001214-1872921600-1872954000@houseofgospel.com
SUMMARY:Chop It Up" Men's Bible Study 7pm (Fontana) and Women's Bible Study 7pm (Eastvale)
DESCRIPTION:
URL:https://houseofgospel.com/event/chop-it-up-mens-bible-study-7pm-fontana-womens-bible-study-7pm-eastvale/2029-05-08/
END:VEVENT
BEGIN:VEVENT
DTSTART;TZID=UTC:20290515T080000
DTEND;TZID=UTC:20290515T170000
DTSTAMP:20260425T152535
CREATED:20260425T014218Z
LAST-MODIFIED:20260425T042440Z
UID:10001215-1873526400-1873558800@houseofgospel.com
SUMMARY:Chop It Up" Men's Bible Study 7pm (Fontana) and Women's Bible Study 7pm (Eastvale)
DESCRIPTION:
URL:https://houseofgospel.com/event/chop-it-up-mens-bible-study-7pm-fontana-womens-bible-study-7pm-eastvale/2029-05-15/
END:VEVENT
BEGIN:VEVENT
DTSTART;TZID=UTC:20290522T080000
DTEND;TZID=UTC:20290522T170000
DTSTAMP:20260425T152535
CREATED:20260425T014218Z
LAST-MODIFIED:20260425T042440Z
UID:10001216-1874131200-1874163600@houseofgospel.com
SUMMARY:Chop It Up" Men's Bible Study 7pm (Fontana) and Women's Bible Study 7pm (Eastvale)
DESCRIPTION:
URL:https://houseofgospel.com/event/chop-it-up-mens-bible-study-7pm-fontana-womens-bible-study-7pm-eastvale/2029-05-22/
END:VEVENT
BEGIN:VEVENT
DTSTART;TZID=UTC:20290529T080000
DTEND;TZID=UTC:20290529T170000
DTSTAMP:20260425T152535
CREATED:20260425T014218Z
LAST-MODIFIED:20260425T042440Z
UID:10001217-1874736000-1874768400@houseofgospel.com
SUMMARY:Chop It Up" Men's Bible Study 7pm (Fontana) and Women's Bible Study 7pm (Eastvale)
DESCRIPTION:
URL:https://houseofgospel.com/event/chop-it-up-mens-bible-study-7pm-fontana-womens-bible-study-7pm-eastvale/2029-05-29/
END:VEVENT
BEGIN:VEVENT
DTSTART;TZID=UTC:20290605T080000
DTEND;TZID=UTC:20290605T170000
DTSTAMP:20260425T152535
CREATED:20260425T014218Z
LAST-MODIFIED:20260425T042440Z
UID:10001218-1875340800-1875373200@houseofgospel.com
SUMMARY:Chop It Up" Men's Bible Study 7pm (Fontana) and Women's Bible Study 7pm (Eastvale)
DESCRIPTION:
URL:https://houseofgospel.com/event/chop-it-up-mens-bible-study-7pm-fontana-womens-bible-study-7pm-eastvale/2029-06-05/
END:VEVENT
BEGIN:VEVENT
DTSTART;TZID=UTC:20290612T080000
DTEND;TZID=UTC:20290612T170000
DTSTAMP:20260425T152535
CREATED:20260425T014218Z
LAST-MODIFIED:20260425T042440Z
UID:10001219-1875945600-1875978000@houseofgospel.com
SUMMARY:Chop It Up" Men's Bible Study 7pm (Fontana) and Women's Bible Study 7pm (Eastvale)
DESCRIPTION:
URL:https://houseofgospel.com/event/chop-it-up-mens-bible-study-7pm-fontana-womens-bible-study-7pm-eastvale/2029-06-12/
END:VEVENT
BEGIN:VEVENT
DTSTART;TZID=UTC:20290619T080000
DTEND;TZID=UTC:20290619T170000
DTSTAMP:20260425T152535
CREATED:20260425T014218Z
LAST-MODIFIED:20260425T042440Z
UID:10001220-1876550400-1876582800@houseofgospel.com
SUMMARY:Chop It Up" Men's Bible Study 7pm (Fontana) and Women's Bible Study 7pm (Eastvale)
DESCRIPTION:
URL:https://houseofgospel.com/event/chop-it-up-mens-bible-study-7pm-fontana-womens-bible-study-7pm-eastvale/2029-06-19/
END:VEVENT
END:VCALENDAR