BEGIN:VCALENDAR
VERSION:2.0
PRODID:-//houseofgospel.com - ECPv6.9.1//NONSGML v1.0//EN
CALSCALE:GREGORIAN
METHOD:PUBLISH
X-ORIGINAL-URL:https://houseofgospel.com
X-WR-CALDESC:Events for houseofgospel.com
REFRESH-INTERVAL;VALUE=DURATION:PT1H
X-Robots-Tag:noindex
X-PUBLISHED-TTL:PT1H
BEGIN:VTIMEZONE
TZID:UTC
BEGIN:STANDARD
TZOFFSETFROM:+0000
TZOFFSETTO:+0000
TZNAME:UTC
DTSTART:20260101T000000
END:STANDARD
END:VTIMEZONE
BEGIN:VEVENT
DTSTART;TZID=UTC:20261004T100000
DTEND;TZID=UTC:20261004T120000
DTSTAMP:20260418T151654
CREATED:20250127T104411Z
LAST-MODIFIED:20250218T023349Z
UID:10000354-1791108000-1791115200@houseofgospel.com
SUMMARY:HOG Family Gathering
DESCRIPTION:A family gathering at a church is a time when members of a church community come together to celebrate\, worship\, and support each other. 
URL:https://houseofgospel.com/event/family-gathering/2026-10-04/
LOCATION:11910 Foothill Blvd Suite 120 Rancho Cucamonga\, CA 91739\, 11910 Foothill Blvd Suite 120 Rancho Cucamonga\, CA 91739\, California\, California\, 91739\, United States
ATTACH;FMTTYPE=image/jpeg:https://houseofgospel.com/wp-content/uploads/2025/01/pexels-jibarofoto-2774556-scaled.jpg
END:VEVENT
BEGIN:VEVENT
DTSTART;TZID=UTC:20261011T100000
DTEND;TZID=UTC:20261011T120000
DTSTAMP:20260418T151654
CREATED:20250127T104411Z
LAST-MODIFIED:20250218T023349Z
UID:10000355-1791712800-1791720000@houseofgospel.com
SUMMARY:HOG Family Gathering
DESCRIPTION:A family gathering at a church is a time when members of a church community come together to celebrate\, worship\, and support each other. 
URL:https://houseofgospel.com/event/family-gathering/2026-10-11/
LOCATION:11910 Foothill Blvd Suite 120 Rancho Cucamonga\, CA 91739\, 11910 Foothill Blvd Suite 120 Rancho Cucamonga\, CA 91739\, California\, California\, 91739\, United States
ATTACH;FMTTYPE=image/jpeg:https://houseofgospel.com/wp-content/uploads/2025/01/pexels-jibarofoto-2774556-scaled.jpg
END:VEVENT
BEGIN:VEVENT
DTSTART;TZID=UTC:20261018T100000
DTEND;TZID=UTC:20261018T120000
DTSTAMP:20260418T151655
CREATED:20250127T104411Z
LAST-MODIFIED:20250218T023349Z
UID:10000356-1792317600-1792324800@houseofgospel.com
SUMMARY:HOG Family Gathering
DESCRIPTION:A family gathering at a church is a time when members of a church community come together to celebrate\, worship\, and support each other. 
URL:https://houseofgospel.com/event/family-gathering/2026-10-18/
LOCATION:11910 Foothill Blvd Suite 120 Rancho Cucamonga\, CA 91739\, 11910 Foothill Blvd Suite 120 Rancho Cucamonga\, CA 91739\, California\, California\, 91739\, United States
ATTACH;FMTTYPE=image/jpeg:https://houseofgospel.com/wp-content/uploads/2025/01/pexels-jibarofoto-2774556-scaled.jpg
END:VEVENT
BEGIN:VEVENT
DTSTART;TZID=UTC:20261025T100000
DTEND;TZID=UTC:20261025T120000
DTSTAMP:20260418T151655
CREATED:20250127T104411Z
LAST-MODIFIED:20250218T023349Z
UID:10000357-1792922400-1792929600@houseofgospel.com
SUMMARY:HOG Family Gathering
DESCRIPTION:A family gathering at a church is a time when members of a church community come together to celebrate\, worship\, and support each other. 
URL:https://houseofgospel.com/event/family-gathering/2026-10-25/
LOCATION:11910 Foothill Blvd Suite 120 Rancho Cucamonga\, CA 91739\, 11910 Foothill Blvd Suite 120 Rancho Cucamonga\, CA 91739\, California\, California\, 91739\, United States
ATTACH;FMTTYPE=image/jpeg:https://houseofgospel.com/wp-content/uploads/2025/01/pexels-jibarofoto-2774556-scaled.jpg
END:VEVENT
END:VCALENDAR