BEGIN:VCALENDAR
VERSION:2.0
PRODID:-//houseofgospel.com - ECPv6.9.1//NONSGML v1.0//EN
CALSCALE:GREGORIAN
METHOD:PUBLISH
X-WR-CALNAME:houseofgospel.com
X-ORIGINAL-URL:https://houseofgospel.com
X-WR-CALDESC:Events for houseofgospel.com
REFRESH-INTERVAL;VALUE=DURATION:PT1H
X-Robots-Tag:noindex
X-PUBLISHED-TTL:PT1H
BEGIN:VTIMEZONE
TZID:UTC
BEGIN:STANDARD
TZOFFSETFROM:+0000
TZOFFSETTO:+0000
TZNAME:UTC
DTSTART:20270101T000000
END:STANDARD
END:VTIMEZONE
BEGIN:VEVENT
DTSTART;TZID=UTC:20270502T100000
DTEND;TZID=UTC:20270502T120000
DTSTAMP:20260418T162345
CREATED:20250127T104411Z
LAST-MODIFIED:20250218T023349Z
UID:10000384-1809252000-1809259200@houseofgospel.com
SUMMARY:HOG Family Gathering
DESCRIPTION:A family gathering at a church is a time when members of a church community come together to celebrate\, worship\, and support each other. 
URL:https://houseofgospel.com/event/family-gathering/2027-05-02/
LOCATION:11910 Foothill Blvd Suite 120 Rancho Cucamonga\, CA 91739\, 11910 Foothill Blvd Suite 120 Rancho Cucamonga\, CA 91739\, California\, California\, 91739\, United States
ATTACH;FMTTYPE=image/jpeg:https://houseofgospel.com/wp-content/uploads/2025/01/pexels-jibarofoto-2774556-scaled.jpg
END:VEVENT
BEGIN:VEVENT
DTSTART;TZID=UTC:20270509T100000
DTEND;TZID=UTC:20270509T120000
DTSTAMP:20260418T162345
CREATED:20250127T104411Z
LAST-MODIFIED:20250218T023349Z
UID:10000385-1809856800-1809864000@houseofgospel.com
SUMMARY:HOG Family Gathering
DESCRIPTION:A family gathering at a church is a time when members of a church community come together to celebrate\, worship\, and support each other. 
URL:https://houseofgospel.com/event/family-gathering/2027-05-09/
LOCATION:11910 Foothill Blvd Suite 120 Rancho Cucamonga\, CA 91739\, 11910 Foothill Blvd Suite 120 Rancho Cucamonga\, CA 91739\, California\, California\, 91739\, United States
ATTACH;FMTTYPE=image/jpeg:https://houseofgospel.com/wp-content/uploads/2025/01/pexels-jibarofoto-2774556-scaled.jpg
END:VEVENT
BEGIN:VEVENT
DTSTART;TZID=UTC:20270516T100000
DTEND;TZID=UTC:20270516T120000
DTSTAMP:20260418T162345
CREATED:20250127T104411Z
LAST-MODIFIED:20250218T023349Z
UID:10000386-1810461600-1810468800@houseofgospel.com
SUMMARY:HOG Family Gathering
DESCRIPTION:A family gathering at a church is a time when members of a church community come together to celebrate\, worship\, and support each other. 
URL:https://houseofgospel.com/event/family-gathering/2027-05-16/
LOCATION:11910 Foothill Blvd Suite 120 Rancho Cucamonga\, CA 91739\, 11910 Foothill Blvd Suite 120 Rancho Cucamonga\, CA 91739\, California\, California\, 91739\, United States
ATTACH;FMTTYPE=image/jpeg:https://houseofgospel.com/wp-content/uploads/2025/01/pexels-jibarofoto-2774556-scaled.jpg
END:VEVENT
BEGIN:VEVENT
DTSTART;TZID=UTC:20270523T100000
DTEND;TZID=UTC:20270523T120000
DTSTAMP:20260418T162345
CREATED:20250127T104411Z
LAST-MODIFIED:20250218T023349Z
UID:10000387-1811066400-1811073600@houseofgospel.com
SUMMARY:HOG Family Gathering
DESCRIPTION:A family gathering at a church is a time when members of a church community come together to celebrate\, worship\, and support each other. 
URL:https://houseofgospel.com/event/family-gathering/2027-05-23/
LOCATION:11910 Foothill Blvd Suite 120 Rancho Cucamonga\, CA 91739\, 11910 Foothill Blvd Suite 120 Rancho Cucamonga\, CA 91739\, California\, California\, 91739\, United States
ATTACH;FMTTYPE=image/jpeg:https://houseofgospel.com/wp-content/uploads/2025/01/pexels-jibarofoto-2774556-scaled.jpg
END:VEVENT
BEGIN:VEVENT
DTSTART;TZID=UTC:20270530T100000
DTEND;TZID=UTC:20270530T120000
DTSTAMP:20260418T162345
CREATED:20250127T104411Z
LAST-MODIFIED:20250218T023349Z
UID:10000388-1811671200-1811678400@houseofgospel.com
SUMMARY:HOG Family Gathering
DESCRIPTION:A family gathering at a church is a time when members of a church community come together to celebrate\, worship\, and support each other. 
URL:https://houseofgospel.com/event/family-gathering/2027-05-30/
LOCATION:11910 Foothill Blvd Suite 120 Rancho Cucamonga\, CA 91739\, 11910 Foothill Blvd Suite 120 Rancho Cucamonga\, CA 91739\, California\, California\, 91739\, United States
ATTACH;FMTTYPE=image/jpeg:https://houseofgospel.com/wp-content/uploads/2025/01/pexels-jibarofoto-2774556-scaled.jpg
END:VEVENT
END:VCALENDAR