BEGIN:VCALENDAR
VERSION:2.0
PRODID:-//houseofgospel.com - ECPv6.9.1//NONSGML v1.0//EN
CALSCALE:GREGORIAN
METHOD:PUBLISH
X-WR-CALNAME:houseofgospel.com
X-ORIGINAL-URL:https://houseofgospel.com
X-WR-CALDESC:Events for houseofgospel.com
REFRESH-INTERVAL;VALUE=DURATION:PT1H
X-Robots-Tag:noindex
X-PUBLISHED-TTL:PT1H
BEGIN:VTIMEZONE
TZID:UTC
BEGIN:STANDARD
TZOFFSETFROM:+0000
TZOFFSETTO:+0000
TZNAME:UTC
DTSTART:20270101T000000
END:STANDARD
END:VTIMEZONE
BEGIN:VEVENT
DTSTART;TZID=UTC:20270801T100000
DTEND;TZID=UTC:20270801T120000
DTSTAMP:20260421T091342
CREATED:20250127T104411Z
LAST-MODIFIED:20250218T023349Z
UID:10000397-1817114400-1817121600@houseofgospel.com
SUMMARY:HOG Family Gathering
DESCRIPTION:A family gathering at a church is a time when members of a church community come together to celebrate\, worship\, and support each other. 
URL:https://houseofgospel.com/event/family-gathering/2027-08-01/
LOCATION:11910 Foothill Blvd Suite 120 Rancho Cucamonga\, CA 91739\, 11910 Foothill Blvd Suite 120 Rancho Cucamonga\, CA 91739\, California\, California\, 91739\, United States
ATTACH;FMTTYPE=image/jpeg:https://houseofgospel.com/wp-content/uploads/2025/01/pexels-jibarofoto-2774556-scaled.jpg
END:VEVENT
BEGIN:VEVENT
DTSTART;TZID=UTC:20270808T100000
DTEND;TZID=UTC:20270808T120000
DTSTAMP:20260421T091342
CREATED:20250127T104411Z
LAST-MODIFIED:20250218T023349Z
UID:10000398-1817719200-1817726400@houseofgospel.com
SUMMARY:HOG Family Gathering
DESCRIPTION:A family gathering at a church is a time when members of a church community come together to celebrate\, worship\, and support each other. 
URL:https://houseofgospel.com/event/family-gathering/2027-08-08/
LOCATION:11910 Foothill Blvd Suite 120 Rancho Cucamonga\, CA 91739\, 11910 Foothill Blvd Suite 120 Rancho Cucamonga\, CA 91739\, California\, California\, 91739\, United States
ATTACH;FMTTYPE=image/jpeg:https://houseofgospel.com/wp-content/uploads/2025/01/pexels-jibarofoto-2774556-scaled.jpg
END:VEVENT
BEGIN:VEVENT
DTSTART;TZID=UTC:20270815T100000
DTEND;TZID=UTC:20270815T120000
DTSTAMP:20260421T091342
CREATED:20250127T104411Z
LAST-MODIFIED:20250218T023349Z
UID:10000399-1818324000-1818331200@houseofgospel.com
SUMMARY:HOG Family Gathering
DESCRIPTION:A family gathering at a church is a time when members of a church community come together to celebrate\, worship\, and support each other. 
URL:https://houseofgospel.com/event/family-gathering/2027-08-15/
LOCATION:11910 Foothill Blvd Suite 120 Rancho Cucamonga\, CA 91739\, 11910 Foothill Blvd Suite 120 Rancho Cucamonga\, CA 91739\, California\, California\, 91739\, United States
ATTACH;FMTTYPE=image/jpeg:https://houseofgospel.com/wp-content/uploads/2025/01/pexels-jibarofoto-2774556-scaled.jpg
END:VEVENT
BEGIN:VEVENT
DTSTART;TZID=UTC:20270822T100000
DTEND;TZID=UTC:20270822T120000
DTSTAMP:20260421T091342
CREATED:20250127T104411Z
LAST-MODIFIED:20250218T023349Z
UID:10000400-1818928800-1818936000@houseofgospel.com
SUMMARY:HOG Family Gathering
DESCRIPTION:A family gathering at a church is a time when members of a church community come together to celebrate\, worship\, and support each other. 
URL:https://houseofgospel.com/event/family-gathering/2027-08-22/
LOCATION:11910 Foothill Blvd Suite 120 Rancho Cucamonga\, CA 91739\, 11910 Foothill Blvd Suite 120 Rancho Cucamonga\, CA 91739\, California\, California\, 91739\, United States
ATTACH;FMTTYPE=image/jpeg:https://houseofgospel.com/wp-content/uploads/2025/01/pexels-jibarofoto-2774556-scaled.jpg
END:VEVENT
BEGIN:VEVENT
DTSTART;TZID=UTC:20270829T100000
DTEND;TZID=UTC:20270829T120000
DTSTAMP:20260421T091342
CREATED:20250127T104411Z
LAST-MODIFIED:20250218T023349Z
UID:10000401-1819533600-1819540800@houseofgospel.com
SUMMARY:HOG Family Gathering
DESCRIPTION:A family gathering at a church is a time when members of a church community come together to celebrate\, worship\, and support each other. 
URL:https://houseofgospel.com/event/family-gathering/2027-08-29/
LOCATION:11910 Foothill Blvd Suite 120 Rancho Cucamonga\, CA 91739\, 11910 Foothill Blvd Suite 120 Rancho Cucamonga\, CA 91739\, California\, California\, 91739\, United States
ATTACH;FMTTYPE=image/jpeg:https://houseofgospel.com/wp-content/uploads/2025/01/pexels-jibarofoto-2774556-scaled.jpg
END:VEVENT
END:VCALENDAR