BEGIN:VCALENDAR
VERSION:2.0
PRODID:-//houseofgospel.com - ECPv6.9.1//NONSGML v1.0//EN
CALSCALE:GREGORIAN
METHOD:PUBLISH
X-ORIGINAL-URL:https://houseofgospel.com
X-WR-CALDESC:Events for houseofgospel.com
REFRESH-INTERVAL;VALUE=DURATION:PT1H
X-Robots-Tag:noindex
X-PUBLISHED-TTL:PT1H
BEGIN:VTIMEZONE
TZID:UTC
BEGIN:STANDARD
TZOFFSETFROM:+0000
TZOFFSETTO:+0000
TZNAME:UTC
DTSTART:20280101T000000
END:STANDARD
END:VTIMEZONE
BEGIN:VEVENT
DTSTART;TZID=UTC:20280201T080000
DTEND;TZID=UTC:20280201T170000
DTSTAMP:20260425T164905
CREATED:20260425T014218Z
LAST-MODIFIED:20260425T042440Z
UID:10001148-1833004800-1833037200@houseofgospel.com
SUMMARY:Chop It Up" Men's Bible Study 7pm (Fontana) and Women's Bible Study 7pm (Eastvale)
DESCRIPTION:
URL:https://houseofgospel.com/event/chop-it-up-mens-bible-study-7pm-fontana-womens-bible-study-7pm-eastvale/2028-02-01/
END:VEVENT
BEGIN:VEVENT
DTSTART;TZID=UTC:20280208T080000
DTEND;TZID=UTC:20280208T170000
DTSTAMP:20260425T164905
CREATED:20260425T014218Z
LAST-MODIFIED:20260425T042440Z
UID:10001149-1833609600-1833642000@houseofgospel.com
SUMMARY:Chop It Up" Men's Bible Study 7pm (Fontana) and Women's Bible Study 7pm (Eastvale)
DESCRIPTION:
URL:https://houseofgospel.com/event/chop-it-up-mens-bible-study-7pm-fontana-womens-bible-study-7pm-eastvale/2028-02-08/
END:VEVENT
BEGIN:VEVENT
DTSTART;TZID=UTC:20280215T080000
DTEND;TZID=UTC:20280215T170000
DTSTAMP:20260425T164905
CREATED:20260425T014218Z
LAST-MODIFIED:20260425T042440Z
UID:10001150-1834214400-1834246800@houseofgospel.com
SUMMARY:Chop It Up" Men's Bible Study 7pm (Fontana) and Women's Bible Study 7pm (Eastvale)
DESCRIPTION:
URL:https://houseofgospel.com/event/chop-it-up-mens-bible-study-7pm-fontana-womens-bible-study-7pm-eastvale/2028-02-15/
END:VEVENT
BEGIN:VEVENT
DTSTART;TZID=UTC:20280222T080000
DTEND;TZID=UTC:20280222T170000
DTSTAMP:20260425T164905
CREATED:20260425T014218Z
LAST-MODIFIED:20260425T042440Z
UID:10001151-1834819200-1834851600@houseofgospel.com
SUMMARY:Chop It Up" Men's Bible Study 7pm (Fontana) and Women's Bible Study 7pm (Eastvale)
DESCRIPTION:
URL:https://houseofgospel.com/event/chop-it-up-mens-bible-study-7pm-fontana-womens-bible-study-7pm-eastvale/2028-02-22/
END:VEVENT
BEGIN:VEVENT
DTSTART;TZID=UTC:20280229T080000
DTEND;TZID=UTC:20280229T170000
DTSTAMP:20260425T164905
CREATED:20260425T014218Z
LAST-MODIFIED:20260425T042440Z
UID:10001152-1835424000-1835456400@houseofgospel.com
SUMMARY:Chop It Up" Men's Bible Study 7pm (Fontana) and Women's Bible Study 7pm (Eastvale)
DESCRIPTION:
URL:https://houseofgospel.com/event/chop-it-up-mens-bible-study-7pm-fontana-womens-bible-study-7pm-eastvale/2028-02-29/
END:VEVENT
END:VCALENDAR